BEGIN:VCALENDAR
VERSION:2.0
PRODID:-//biocrates life sciences gmbh - ECPv6.15.20//NONSGML v1.0//EN
CALSCALE:GREGORIAN
METHOD:PUBLISH
X-ORIGINAL-URL:https://biocrates.com
X-WR-CALDESC:Events for biocrates life sciences gmbh
REFRESH-INTERVAL;VALUE=DURATION:PT1H
X-Robots-Tag:noindex
X-PUBLISHED-TTL:PT1H
BEGIN:VTIMEZONE
TZID:America/New_York
BEGIN:DAYLIGHT
TZOFFSETFROM:-0500
TZOFFSETTO:-0400
TZNAME:EDT
DTSTART:20240310T070000
END:DAYLIGHT
BEGIN:STANDARD
TZOFFSETFROM:-0400
TZOFFSETTO:-0500
TZNAME:EST
DTSTART:20241103T060000
END:STANDARD
BEGIN:DAYLIGHT
TZOFFSETFROM:-0500
TZOFFSETTO:-0400
TZNAME:EDT
DTSTART:20250309T070000
END:DAYLIGHT
BEGIN:STANDARD
TZOFFSETFROM:-0400
TZOFFSETTO:-0500
TZNAME:EST
DTSTART:20251102T060000
END:STANDARD
BEGIN:DAYLIGHT
TZOFFSETFROM:-0500
TZOFFSETTO:-0400
TZNAME:EDT
DTSTART:20260308T070000
END:DAYLIGHT
BEGIN:STANDARD
TZOFFSETFROM:-0400
TZOFFSETTO:-0500
TZNAME:EST
DTSTART:20261101T060000
END:STANDARD
END:VTIMEZONE
BEGIN:VTIMEZONE
TZID:Europe/Vienna
BEGIN:DAYLIGHT
TZOFFSETFROM:+0100
TZOFFSETTO:+0200
TZNAME:CEST
DTSTART:20240331T010000
END:DAYLIGHT
BEGIN:STANDARD
TZOFFSETFROM:+0200
TZOFFSETTO:+0100
TZNAME:CET
DTSTART:20241027T010000
END:STANDARD
BEGIN:DAYLIGHT
TZOFFSETFROM:+0100
TZOFFSETTO:+0200
TZNAME:CEST
DTSTART:20250330T010000
END:DAYLIGHT
BEGIN:STANDARD
TZOFFSETFROM:+0200
TZOFFSETTO:+0100
TZNAME:CET
DTSTART:20251026T010000
END:STANDARD
BEGIN:DAYLIGHT
TZOFFSETFROM:+0100
TZOFFSETTO:+0200
TZNAME:CEST
DTSTART:20260329T010000
END:DAYLIGHT
BEGIN:STANDARD
TZOFFSETFROM:+0200
TZOFFSETTO:+0100
TZNAME:CET
DTSTART:20261025T010000
END:STANDARD
END:VTIMEZONE
BEGIN:VEVENT
DTSTART;VALUE=DATE:20250512
DTEND;VALUE=DATE:20250516
DTSTAMP:20260423T042107
CREATED:20250401T093938Z
LAST-MODIFIED:20250415T100006Z
UID:277039-1747008000-1747353599@biocrates.com
SUMMARY:Exposome Moonshot Forum
DESCRIPTION:Sponsorship\nSave the date for the “Exposome Moonshot Forum” taking place in Washington\, D.C.\nIn this multi-stakeholder forum you will find out more about the Human Exposome and its influence on physical\, chemical\, biological\, and psychosocial aspects and its potential in medicine and public health practice. \nDate | May 12- 15\, 2025\nLocation | Washington\, D.C. | USA\nMeet | Dr. Alice Limonciel\, Dr. Fadi Abdi\nEvent page | https://exposomemoonshot.org/
URL:https://biocrates.com/event/https-exposomemoonshot-org/
LOCATION:555 Pennsylvania Avenue\, Washington D.C. 20001
ATTACH;FMTTYPE=image/jpeg:https://biocrates.com/wp-content/uploads/2025/04/08_Exposome-Moonshot-Forum_600x250.jpg
END:VEVENT
BEGIN:VEVENT
DTSTART;TZID=Europe/Vienna:20250518T080000
DTEND;TZID=Europe/Vienna:20250522T170000
DTSTAMP:20260423T042107
CREATED:20250313T080506Z
LAST-MODIFIED:20250313T080506Z
UID:276677-1747555200-1747933200@biocrates.com
SUMMARY:EUROMEDLAB 2025
DESCRIPTION:Participation\nJoin biocrates at EUROMEDLAB 2025 | Congress of Clinical Chemistry and Laboratory Medicine. \nDate | May 18 – 22\, 2025\nLocation | Brussels\, Belgium | Europe\nMeet | Dr Sebastian Gottfried\nMore information and registration | EUROMEDLAB Brussels 2025
URL:https://biocrates.com/event/https-www-euromedlab2025brussels-org/
LOCATION:BRUSSELS EXPO\, Place de Belgique 1\, Brussels\, 1020\, Belgium
ATTACH;FMTTYPE=image/webp:https://biocrates.com/wp-content/uploads/2025/03/05_Euromedlab-2025_shades-of-blue-600x250-1.webp
END:VEVENT
END:VCALENDAR