BEGIN:VCALENDAR
VERSION:2.0
PRODID:-//biocrates life sciences gmbh - ECPv6.15.20//NONSGML v1.0//EN
CALSCALE:GREGORIAN
METHOD:PUBLISH
X-WR-CALNAME:biocrates life sciences gmbh
X-ORIGINAL-URL:https://biocrates.com
X-WR-CALDESC:Events for biocrates life sciences gmbh
REFRESH-INTERVAL;VALUE=DURATION:PT1H
X-Robots-Tag:noindex
X-PUBLISHED-TTL:PT1H
BEGIN:VTIMEZONE
TZID:Europe/Vienna
BEGIN:DAYLIGHT
TZOFFSETFROM:+0100
TZOFFSETTO:+0200
TZNAME:CEST
DTSTART:20240331T010000
END:DAYLIGHT
BEGIN:STANDARD
TZOFFSETFROM:+0200
TZOFFSETTO:+0100
TZNAME:CET
DTSTART:20241027T010000
END:STANDARD
BEGIN:DAYLIGHT
TZOFFSETFROM:+0100
TZOFFSETTO:+0200
TZNAME:CEST
DTSTART:20250330T010000
END:DAYLIGHT
BEGIN:STANDARD
TZOFFSETFROM:+0200
TZOFFSETTO:+0100
TZNAME:CET
DTSTART:20251026T010000
END:STANDARD
BEGIN:DAYLIGHT
TZOFFSETFROM:+0100
TZOFFSETTO:+0200
TZNAME:CEST
DTSTART:20260329T010000
END:DAYLIGHT
BEGIN:STANDARD
TZOFFSETFROM:+0200
TZOFFSETTO:+0100
TZNAME:CET
DTSTART:20261025T010000
END:STANDARD
END:VTIMEZONE
BEGIN:VEVENT
DTSTART;TZID=Europe/Vienna:20250116T160000
DTEND;TZID=Europe/Vienna:20250116T173000
DTSTAMP:20260423T112244
CREATED:20241211T100850Z
LAST-MODIFIED:20241211T162534Z
UID:275062-1737043200-1737048600@biocrates.com
SUMMARY:Microbiome and disease
DESCRIPTION:Virtual event\nMicrobiome and disease | Insights through the lens of the metabolome \nDate | January 16\, 2025\nTime | 04:00-05:30 pm CET\nVirtual on ZOOM\nMeet | Dr. Maria Effenberger\, Dr. Alice Limonciel\, Dr. Marc-Emmanuel Dumas\nMore information and registration | https://biocrates.com/microbiome-and-disease/
URL:https://biocrates.com/event/microbiome-and-disease/
LOCATION:ZOOM
ATTACH;FMTTYPE=image/webp:https://biocrates.com/wp-content/uploads/2024/12/Microbiome_webinar_upcoming-events-600x250px.webp
END:VEVENT
END:VCALENDAR