BEGIN:VCALENDAR
VERSION:2.0
PRODID:-//biocrates life sciences gmbh - ECPv6.15.20//NONSGML v1.0//EN
CALSCALE:GREGORIAN
METHOD:PUBLISH
X-WR-CALNAME:biocrates life sciences gmbh
X-ORIGINAL-URL:https://biocrates.com
X-WR-CALDESC:Events for biocrates life sciences gmbh
REFRESH-INTERVAL;VALUE=DURATION:PT1H
X-Robots-Tag:noindex
X-PUBLISHED-TTL:PT1H
BEGIN:VTIMEZONE
TZID:Europe/Vienna
BEGIN:DAYLIGHT
TZOFFSETFROM:+0100
TZOFFSETTO:+0200
TZNAME:CEST
DTSTART:20230326T010000
END:DAYLIGHT
BEGIN:STANDARD
TZOFFSETFROM:+0200
TZOFFSETTO:+0100
TZNAME:CET
DTSTART:20231029T010000
END:STANDARD
BEGIN:DAYLIGHT
TZOFFSETFROM:+0100
TZOFFSETTO:+0200
TZNAME:CEST
DTSTART:20240331T010000
END:DAYLIGHT
BEGIN:STANDARD
TZOFFSETFROM:+0200
TZOFFSETTO:+0100
TZNAME:CET
DTSTART:20241027T010000
END:STANDARD
BEGIN:DAYLIGHT
TZOFFSETFROM:+0100
TZOFFSETTO:+0200
TZNAME:CEST
DTSTART:20250330T010000
END:DAYLIGHT
BEGIN:STANDARD
TZOFFSETFROM:+0200
TZOFFSETTO:+0100
TZNAME:CET
DTSTART:20251026T010000
END:STANDARD
END:VTIMEZONE
BEGIN:VTIMEZONE
TZID:America/New_York
BEGIN:DAYLIGHT
TZOFFSETFROM:-0500
TZOFFSETTO:-0400
TZNAME:EDT
DTSTART:20230312T070000
END:DAYLIGHT
BEGIN:STANDARD
TZOFFSETFROM:-0400
TZOFFSETTO:-0500
TZNAME:EST
DTSTART:20231105T060000
END:STANDARD
BEGIN:DAYLIGHT
TZOFFSETFROM:-0500
TZOFFSETTO:-0400
TZNAME:EDT
DTSTART:20240310T070000
END:DAYLIGHT
BEGIN:STANDARD
TZOFFSETFROM:-0400
TZOFFSETTO:-0500
TZNAME:EST
DTSTART:20241103T060000
END:STANDARD
BEGIN:DAYLIGHT
TZOFFSETFROM:-0500
TZOFFSETTO:-0400
TZNAME:EDT
DTSTART:20250309T070000
END:DAYLIGHT
BEGIN:STANDARD
TZOFFSETFROM:-0400
TZOFFSETTO:-0500
TZNAME:EST
DTSTART:20251102T060000
END:STANDARD
END:VTIMEZONE
BEGIN:VTIMEZONE
TZID:Asia/Kolkata
BEGIN:STANDARD
TZOFFSETFROM:+0530
TZOFFSETTO:+0530
TZNAME:IST
DTSTART:20230101T000000
END:STANDARD
END:VTIMEZONE
BEGIN:VEVENT
DTSTART;TZID=Europe/Vienna:20241101T000000
DTEND;TZID=Europe/Vienna:20241102T235959
DTSTAMP:20260423T150342
CREATED:20240612T103716Z
LAST-MODIFIED:20240612T103716Z
UID:270619-1730419200-1730591999@biocrates.com
SUMMARY:Biomarkers of Aging 2024
DESCRIPTION:Participation\nJoin biocrates at the Biomarkers of Aging conference 2024 at the Joseph B. Martin Conference Center at Harvard Medical School in Boston. The program will feature cutting-edge academic science of biomarkers of aging as well as translational\, clinical and regulatory aspects of biomarkers of aging featuring the world’s leading academic and industry scientists. \nDate | November 01-02\, 2024\nLocation | Joseph B. Martin Conference Center at Harvard Medical School in Boston\nMeet | Fadi Abdi\, Katherine Black\nMore information | https://www.agingconsortium.org/conference-2024
URL:https://biocrates.com/event/biomarkers-of-aging-2024/
LOCATION:Joseph B. Martin Conference Center\, Boston\, MA\, United States
ATTACH;FMTTYPE=image/webp:https://biocrates.com/wp-content/uploads/2024/06/BiomarkersAging_v2.webp
END:VEVENT
BEGIN:VEVENT
DTSTART;TZID=Europe/Vienna:20241112T160000
DTEND;TZID=Europe/Vienna:20241112T170000
DTSTAMP:20260423T150342
CREATED:20241016T081855Z
LAST-MODIFIED:20241016T081855Z
UID:273423-1731427200-1731430800@biocrates.com
SUMMARY:Lipidomics | From planning to interpretation and sharing
DESCRIPTION:Join our upcoming webinar “Lipidomics | From planning to interpretation and sharing” to discover how to make the most of your lipidomics data. Our expert speakers will share their experience about how to avoid pitfalls in lipidomic study planning and how standardized lipidomics helps data interpretation and sharing. \nDate | November 12\, 2024\nTime | 04:00 pm CET\nVirtual on ZOOM\nMeet | Lisa Hahnefeld\, Alice Limonciel\nEvent site | https://biocrates.com/lipidomics-interpretation-webinar-2024/\nRegister
URL:https://biocrates.com/event/lipidomics-from-planning-to-interpretation-and-sharing/
LOCATION:Virtual
ATTACH;FMTTYPE=image/webp:https://biocrates.com/wp-content/uploads/2024/10/Lipidomics-interpretation_internal-upcoming-events-600x250px.webp
END:VEVENT
BEGIN:VEVENT
DTSTART;TZID=America/New_York:20241113T103000
DTEND;TZID=America/New_York:20241113T140000
DTSTAMP:20260423T150342
CREATED:20240924T140911Z
LAST-MODIFIED:20240924T140911Z
UID:272903-1731493800-1731506400@biocrates.com
SUMMARY:biocrates-allumiqs biopharma day
DESCRIPTION:Sponsorship\nJoin us for the biocrates-allumiqs biopharma day\, a unique on-site event focused on the power of multi-omics research in pharmaceutical R&D. Leading experts will share real-world examples of how their companies are leveraging metabolomics and other omics approaches to improve biomarker and drug discovery pipelines. \nDate | November 13\, 2024\nTime | 10:30 am-02:00 pm EST\nLocation | Cerevel Therapeutics\, 222 Jacobs Street\, Suite 200\, Cambridge\, MA 02141\nProgram & Registration  \n 
URL:https://biocrates.com/event/biocrates-allumiqs-biopharma-day/
LOCATION:Cerevel Therapeutics\, 222 Jacobs Street\, Suite 200\, Cambridge\, MA\, 02141\, United States
ATTACH;FMTTYPE=image/webp:https://biocrates.com/wp-content/uploads/2024/09/Allumiqs_Biopharma-day_upcoming-events-600x250px.webp
END:VEVENT
BEGIN:VEVENT
DTSTART;TZID=Asia/Kolkata:20241126T130000
DTEND;TZID=Asia/Kolkata:20241126T173000
DTSTAMP:20260423T150342
CREATED:20241014T115248Z
LAST-MODIFIED:20241014T115248Z
UID:273276-1732626000-1732642200@biocrates.com
SUMMARY:Metabolomics India 2024
DESCRIPTION:Shaping the future of precision medicine\nMetabolomics India 2024 – shaping the future of precision medicine” is the motto of this year’s 3rd edition of India’s leading virtual metabolomics event. The symposium will feature distinguished scientists from India and around the world\, sharing the latest insights and research in precision medicine\, population health and disease\, technological advances\, and community efforts. \nDate | November 26\, 2024\nTime | 1:00 to 5:45 pm IST\nVirtual on ZOOM \nMeet | Prof. Dr. Kareenhalli V. Venkatesh\, Dr. Rajini Nagrani\, Prof. Dr. Kanwal Preet Kocchar\, Dr. Jyoti Arora\, Sreedevi Sreekumar\, Prof. Dr. Jerzy Adamski\, Dr. Robin Joshi\, Dr. Hafiz Arshad\, Aakash Chandramouli\, Dr. Gargi Roy Goswami\, Dr. Baljit Ubhi\, Dr. Alice Limonciel\, Dr. Bijon Chatterji\, Manosh Kumar\, Dr. Bishu Niederbacher \nEvent page | https://biocrates.com/metabolomics_india_2024/\nRegistration | Register now!!! \nWatch recordings of Metabolomics India 2023 \n  \n 
URL:https://biocrates.com/event/metabolomics-india-2024/
LOCATION:ZOOM
ATTACH;FMTTYPE=image/webp:https://biocrates.com/wp-content/uploads/2024/10/Metabolomics-India_upcoming-events-600x250px.webp
END:VEVENT
END:VCALENDAR