BEGIN:VCALENDAR
VERSION:2.0
PRODID:-//biocrates life sciences gmbh - ECPv6.15.20//NONSGML v1.0//EN
CALSCALE:GREGORIAN
METHOD:PUBLISH
X-WR-CALNAME:biocrates life sciences gmbh
X-ORIGINAL-URL:https://biocrates.com
X-WR-CALDESC:Events for biocrates life sciences gmbh
REFRESH-INTERVAL;VALUE=DURATION:PT1H
X-Robots-Tag:noindex
X-PUBLISHED-TTL:PT1H
BEGIN:VTIMEZONE
TZID:Europe/Vienna
BEGIN:DAYLIGHT
TZOFFSETFROM:+0100
TZOFFSETTO:+0200
TZNAME:CEST
DTSTART:20230326T010000
END:DAYLIGHT
BEGIN:STANDARD
TZOFFSETFROM:+0200
TZOFFSETTO:+0100
TZNAME:CET
DTSTART:20231029T010000
END:STANDARD
BEGIN:DAYLIGHT
TZOFFSETFROM:+0100
TZOFFSETTO:+0200
TZNAME:CEST
DTSTART:20240331T010000
END:DAYLIGHT
BEGIN:STANDARD
TZOFFSETFROM:+0200
TZOFFSETTO:+0100
TZNAME:CET
DTSTART:20241027T010000
END:STANDARD
BEGIN:DAYLIGHT
TZOFFSETFROM:+0100
TZOFFSETTO:+0200
TZNAME:CEST
DTSTART:20250330T010000
END:DAYLIGHT
BEGIN:STANDARD
TZOFFSETFROM:+0200
TZOFFSETTO:+0100
TZNAME:CET
DTSTART:20251026T010000
END:STANDARD
END:VTIMEZONE
BEGIN:VEVENT
DTSTART;TZID=Europe/Vienna:20241007T000000
DTEND;TZID=Europe/Vienna:20241008T235959
DTSTAMP:20260423T164538
CREATED:20240917T144417Z
LAST-MODIFIED:20240917T144417Z
UID:272891-1728259200-1728431999@biocrates.com
SUMMARY:Munich Metabolomics Meeting 2024
DESCRIPTION:Sponsorship by biocrates\nJoin us at the Munich Metabolomics Meeting 2024. It aims to connect metabolomics researchers in the Munich area and beyond and provide a forum to demonstrate the broad spectrum of metabolomics research\, share our experiences and discuss current challenges. \nWe warmly invite you to join us for a Get-Together with drinks and pretzels on Monday\, October 7\, at 6:00 pm. We look forward to your presence! \nDate | October 07-08\, 2024\nLocation | LMU Klinikum Großhadern\, Munich\, Germany\nMeet | Stefan Ledinger\nProgram | https://www.munichmetabolomics.com/
URL:https://biocrates.com/event/munich-metabolomics-meeting-2024/
LOCATION:Klinikum Großhadern\, Marchioninistraße 15\, Munich\, Germany
ATTACH;FMTTYPE=image/webp:https://biocrates.com/wp-content/uploads/2024/09/Munich-Metabolomic-Symposium2.webp
END:VEVENT
BEGIN:VEVENT
DTSTART;TZID=Europe/Vienna:20241010T000000
DTEND;TZID=Europe/Vienna:20241010T235959
DTSTAMP:20260423T164538
CREATED:20240917T145109Z
LAST-MODIFIED:20240917T145109Z
UID:272899-1728518400-1728604799@biocrates.com
SUMMARY:Metabolomics in action 2024
DESCRIPTION:Sponsorship\nThis lunch and learn event\, sponsored by biocrates life sciences and hosted by Dr. Candace Guerrero\, Assistant Director of the Center for Metabolomics and Proteomics at UMN\, will feature presentations on cutting-edge research in metabolomics.\nJoin us at this pivotal event to delve into innovative methodologies in the field of metabolomics \nDate | October 10\, 2024 | 10:30 – 02:00 pm (CST)\nLocation | Mayo Auditorium\, Mayo Building\, 420 Delaware St SE\, Minneapolis\, MN 55455\nMeet | Marissa Jones\nEventpage | 2024 metabolomics in action\nRegister | Free registration
URL:https://biocrates.com/event/metabolomics-in-action-2024/
LOCATION:Mayo Auditorium\, ayo Building\, 420 Delaware St SE\, Minneapolis\, MN\, United States
ATTACH;FMTTYPE=image/webp:https://biocrates.com/wp-content/uploads/2024/09/upcoming-events_metabolomics-in-action_600x250px.webp
END:VEVENT
BEGIN:VEVENT
DTSTART;TZID=Europe/Vienna:20241015T120000
DTEND;TZID=Europe/Vienna:20241015T130000
DTSTAMP:20260423T164538
CREATED:20240918T080457Z
LAST-MODIFIED:20240918T080457Z
UID:272936-1728993600-1728997200@biocrates.com
SUMMARY:Metabolomics in pharma 2024
DESCRIPTION:Bridging R&D translation barriers\nSponsored by biocrates life sciences and hosted by Dr. Qin Ji\, Director at AbbVie\, will feature a presentation and open Q&A session on metabolomics in pharmaceutical R&D. \nParticipation\nDate | October 15\, 2024 | 12:00 am-01:00 pm (CST)\nLocation | AbbVie headquarters in North Chicago\, IL\, USA\nMeet | Marissa Jones\nProgram | https://biocrates.com/2024_metabolomics-in-pharma/\nRegister | Registration
URL:https://biocrates.com/event/metabolomics-in-pharma/
LOCATION:AbbVie Headquarters
ATTACH;FMTTYPE=image/webp:https://biocrates.com/wp-content/uploads/2024/09/Abbvie_Lunchandlearn_upcoming-events-600x250px.webp
END:VEVENT
BEGIN:VEVENT
DTSTART;TZID=Europe/Vienna:20241017T103000
DTEND;TZID=Europe/Vienna:20241017T103000
DTSTAMP:20260423T164538
CREATED:20240918T085449Z
LAST-MODIFIED:20240918T085449Z
UID:272942-1729161000-1729161000@biocrates.com
SUMMARY:From zero to metabolomics hero 2024
DESCRIPTION:Join our upcoming webinar to discover how the biocrates MxP® Quant 500 XL kit drives advancements in clinical\, basic\, and epidemiological research. Learn how our joint efforts with Agilent integrate the 6495D LC/TQ platform\, boosting the analysis of key metabolites with enhanced sensitivity and faster processing. \nParticipation\nDate | October 17\, 2024 | 10:30am (CET) Virtual on ZOOM\nMeet | Bijon Chatterji\nProgram | https://biocrates.com/metabolomics-hero-2024/\nRegister | Registration
URL:https://biocrates.com/event/from-zero-to-metabolomics-hero-2024/
LOCATION:Virtual
ATTACH;FMTTYPE=image/jpeg:https://biocrates.com/wp-content/uploads/2024/09/Banner_AgilentWebinar_600x250.jpg
END:VEVENT
BEGIN:VEVENT
DTSTART;TZID=Europe/Vienna:20241021T000000
DTEND;TZID=Europe/Vienna:20241024T235959
DTSTAMP:20260423T164538
CREATED:20240612T092406Z
LAST-MODIFIED:20240612T092406Z
UID:270608-1729468800-1729814399@biocrates.com
SUMMARY:MANA 2024 Conference
DESCRIPTION:Participation\nThe Metabolomics Association of North America (MANA) conferences bring together researchers\, scientists\, and professionals from academia\, industry\, and government agencies who are interested in the field of metabolomics. MANA 2024 serves as a platform for sharing the latest scientific advancements\, exchanging ideas\, fostering collaborations\, and addressing challenges in the field of metabolomics. \nDate | October 21-44\, 2024\nLocation | Tampa\, Florida\nMeet | Brittni Woodall\nProgram
URL:https://biocrates.com/event/mana-2024-conference/
LOCATION:Tampa\, Florida\, Tampa\, FL\, United States
CATEGORIES:Events
ATTACH;FMTTYPE=image/webp:https://biocrates.com/wp-content/uploads/2024/06/MANA-2024_v2.webp
END:VEVENT
BEGIN:VEVENT
DTSTART;TZID=Europe/Vienna:20241023T000000
DTEND;TZID=Europe/Vienna:20241024T235959
DTSTAMP:20260423T164538
CREATED:20240925T085833Z
LAST-MODIFIED:20240925T085833Z
UID:273063-1729641600-1729814399@biocrates.com
SUMMARY:The pharma connection
DESCRIPTION:Participation\nThe Pharma connection is part of the Pharma conclave series 2024.\nFrom discovery to QA/QC. All the process to bring a new treatment to the patients is following a path to connect the different stages until the magic happens. Join to see how the scientists are generating the needed tricks to connect the initial though with the final formulation. The agenda is coming soon! Presentations by: ABBVIE\, Merieux\, Evotec\, Scantox\, AmsLab\, and biocrates. \nDate | October 23-24\, 2024\nTime | 10:00 am-12:00 pm CET | 1:30 pm-3:30 pm IST\nLocation | Virtual\nMeet | Bijon Chatterji\nProgram | https://sciex.com/events/pharma-conclave-series-2024
URL:https://biocrates.com/event/the-pharma-connection/
LOCATION:Virtual
ATTACH;FMTTYPE=image/webp:https://biocrates.com/wp-content/uploads/2024/09/Pharma-conclave.webp
END:VEVENT
BEGIN:VEVENT
DTSTART;TZID=Europe/Vienna:20241025T113000
DTEND;TZID=Europe/Vienna:20241025T130000
DTSTAMP:20260423T164538
CREATED:20241010T102750Z
LAST-MODIFIED:20241010T102750Z
UID:273212-1729855800-1729861200@biocrates.com
SUMMARY:Metabolomics in gut microbiome and nutrition
DESCRIPTION:Virtual event\nJoin our upcoming webinar on metabolomics in gut microbiome and nutrition\, organized by biocrates and AKSA. Our expert speakers\, Prof. Dr. Josep Rubert and Alice Limonciel\, will present groundbreaking findings on how gut microbiota influence host metabolism. Discover the latest research on microbial metabolites\, their role in health and disease\, and how personalized nutrition strategies are evolving. Gain insights into how these discoveries are transforming our understanding of the gut-nutrition connection! \nDate | October 25\, 2024\nTime | 11:30 am-01:00 pm CET\nVirtual on ZOOM\nMeet | Josep Rubert\, Alice Limonciel\, Bijon Chatterji\, Martijn Scholte Albers\nProgram & Registration | https://biocrates.com/nutrition-gutmicrobiome-webinar/
URL:https://biocrates.com/event/metabolomics-in-gut-microbiome-and-nutrition/
LOCATION:Virtual
ATTACH;FMTTYPE=image/jpeg:https://biocrates.com/wp-content/uploads/2024/10/upcomingevents_600x250px.jpg
END:VEVENT
END:VCALENDAR