BEGIN:VCALENDAR
VERSION:2.0
PRODID:-//biocrates life sciences gmbh - ECPv6.15.20//NONSGML v1.0//EN
CALSCALE:GREGORIAN
METHOD:PUBLISH
X-ORIGINAL-URL:https://biocrates.com
X-WR-CALDESC:Events for biocrates life sciences gmbh
REFRESH-INTERVAL;VALUE=DURATION:PT1H
X-Robots-Tag:noindex
X-PUBLISHED-TTL:PT1H
BEGIN:VTIMEZONE
TZID:Europe/Vienna
BEGIN:DAYLIGHT
TZOFFSETFROM:+0100
TZOFFSETTO:+0200
TZNAME:CEST
DTSTART:20230326T010000
END:DAYLIGHT
BEGIN:STANDARD
TZOFFSETFROM:+0200
TZOFFSETTO:+0100
TZNAME:CET
DTSTART:20231029T010000
END:STANDARD
BEGIN:DAYLIGHT
TZOFFSETFROM:+0100
TZOFFSETTO:+0200
TZNAME:CEST
DTSTART:20240331T010000
END:DAYLIGHT
BEGIN:STANDARD
TZOFFSETFROM:+0200
TZOFFSETTO:+0100
TZNAME:CET
DTSTART:20241027T010000
END:STANDARD
BEGIN:DAYLIGHT
TZOFFSETFROM:+0100
TZOFFSETTO:+0200
TZNAME:CEST
DTSTART:20250330T010000
END:DAYLIGHT
BEGIN:STANDARD
TZOFFSETFROM:+0200
TZOFFSETTO:+0100
TZNAME:CET
DTSTART:20251026T010000
END:STANDARD
END:VTIMEZONE
BEGIN:VEVENT
DTSTART;TZID=Europe/Vienna:20240602T000000
DTEND;TZID=Europe/Vienna:20240606T235959
DTSTAMP:20260423T233505
CREATED:20240109T154752Z
LAST-MODIFIED:20240109T154752Z
UID:268391-1717286400-1717718399@biocrates.com
SUMMARY:ASMS 2024
DESCRIPTION:Sponsorship\nThe 72nd Annual ASMS Conference will take place in Anaheim\, California. \nDate | June 02-06\, 2024\nLocation | Anaheim Convention Center\, Anaheim\, California\nbiocrates booth | 126\nMeet |  Fadi Abdi\, Marissa Jones\, Stephen Dearth\, Markus Langsdorf\, Stefan Ledinger\, Hai Pham-Tuan\nProgram | https://www.asms.org/conference-program \n  \nOur poster presentations\nHigh-resolution Quantitative Metabolomics with biocrates’ AbsoluteIDQ® p400 HR kit on Thermo Scientific™ Orbitrap Exploris™ Hybrid Mass Spectrometry Platforms\nGuohui Li\, Stephen Dearth\, and Joshua P. Kline \nAI-driven peak picking and integration using artificial chromatograms and deep neural networks\nDaniel Pelisek\, Radu Talmazan\, Martin Buratti\, Tuan Hai Pham\, and Alice Limonciel \nUrinary metabolomics profiling across mass spectrometer platforms using optimized\, matrix-specific calibration standards\, quality controls\, and acquisition methods\nGregor Ömer\, Markus Langsdorf\, Stephen Dearth \nInternational ring trial of a standardized quantitative assay analyzing more than 1\,000 metabolites across eleven laboratories and seven LC-MS platforms\nMarkus Langsdorf\, Gregor Ömer\, Cornelia Röhring\, Tuan Hai Pham \nAutomated sample preparation using the Waters Andrew+ pipetting robot with biocrates’ MxP®Quant 500 kit for high-throughput metabolomic profiling\nZachary J Mayer\, Candace Guerrero\, Giorgio Horak\, Vincent Bel\, Markus Langsdorf\, Stephen Dearth
URL:https://biocrates.com/event/asms-2024/
LOCATION:Anaheim convention center\, Anaheim\, CA\, Anaheim\, CA\, United States
ATTACH;FMTTYPE=image/jpeg:https://biocrates.com/wp-content/uploads/2024/01/ASMS-2024.jpg
END:VEVENT
BEGIN:VEVENT
DTSTART;TZID=Europe/Vienna:20240610T100000
DTEND;TZID=Europe/Vienna:20240610T123000
DTSTAMP:20260423T233505
CREATED:20240529T092853Z
LAST-MODIFIED:20240529T092853Z
UID:270369-1718013600-1718022600@biocrates.com
SUMMARY:Benelux Metabolomics Webinar
DESCRIPTION:Virtual event by AKSA and biocrates\nBenelux Webinar: Metabolomics – how to make the most of your data \nData interpretation involves translating statistically significant results into meaningful insights: transforming values into pathways and mechanisms\, and organizing scattered facts into a coherent story. While high-quality data generation in metabolomics is achievable\, standardizing interpretation remains challenging. Justin van der Hooft (Wageningen)\, Bart Ghesquière (Leuven)\, and Alice Limonciel (Innsbruck) will discuss their individual projects and methodologies\, highlighting both the successes and challenges of data interpretation. They will share their latest tools designed to maximize the impact of metabolomics on research and health. \nDate | June 10\, 2024\nTime: 10:30 am – 12:00 pm (CET)\nLocation | Virtual on ZOOM\nSpeakers | Justin J.J. van der Hooft\, Bart Ghesquière\, Alice Limonciel\nRegistration | https://zurl.co/jxGG
URL:https://biocrates.com/event/benelux-metabolomics-webinar/
LOCATION:ZOOM
ATTACH;FMTTYPE=image/jpeg:https://biocrates.com/wp-content/uploads/2024/05/Benelux-webinar_600x250px.jpg
END:VEVENT
BEGIN:VEVENT
DTSTART;TZID=Europe/Vienna:20240616T000000
DTEND;TZID=Europe/Vienna:20240620T235959
DTSTAMP:20260423T233505
CREATED:20240116T135246Z
LAST-MODIFIED:20240116T135246Z
UID:268494-1718496000-1718927999@biocrates.com
SUMMARY:Metabolomics 2024
DESCRIPTION:Sponsorship\nThe 20th Annual Conference of the Metabolomics Society “Metabolomics 2024” will take place in Osaka\, Japan. \nDate | June 16-20\, 2024\nLocation | Osaka ATC Hall\, Asia Pacific Trade Center\nTabletop | T6\nMeet | Carmen-Ludwig Papst\, Alice Limonciel\, Marissa Jones\nProgram | Agenda \nOur talk on Metabolomics 2024:\nTitle | AI-driven peak picking using convolutional neural networks and artificial chromatograms\nPresenting Author | Alice Limonciel\nSession | 14. Machine Learning of Metabolics Data\nDate and Time | Wednesday\, June 19 | 10:15 am – 12pm\nAbstract Number | 372 \nOur poster session\nTitle | How reliable are at-home blood sampling devices? Benchmarking metabolite stability in several sampling devices for analysis by targeted metabolomics\nAuthors | Marissa Jones\, Gordian Adam\, Alice Limonciel\nPresenter | Marissa Jones\nPoster Number | 1439
URL:https://biocrates.com/event/metabolomics-2024/
LOCATION:Osaka ATC Hall Asia Pacific Trade Center\, 559-0034 Hall Division 2-1-10 Nankokita\, Osaka\, Japan
ATTACH;FMTTYPE=image/jpeg:https://biocrates.com/wp-content/uploads/2024/01/Metabolomics-2024.jpg
END:VEVENT
END:VCALENDAR