BEGIN:VCALENDAR
VERSION:2.0
PRODID:-//biocrates life sciences gmbh - ECPv6.15.20//NONSGML v1.0//EN
CALSCALE:GREGORIAN
METHOD:PUBLISH
X-ORIGINAL-URL:https://biocrates.com
X-WR-CALDESC:Events for biocrates life sciences gmbh
REFRESH-INTERVAL;VALUE=DURATION:PT1H
X-Robots-Tag:noindex
X-PUBLISHED-TTL:PT1H
BEGIN:VTIMEZONE
TZID:Europe/Vienna
BEGIN:DAYLIGHT
TZOFFSETFROM:+0100
TZOFFSETTO:+0200
TZNAME:CEST
DTSTART:20230326T010000
END:DAYLIGHT
BEGIN:STANDARD
TZOFFSETFROM:+0200
TZOFFSETTO:+0100
TZNAME:CET
DTSTART:20231029T010000
END:STANDARD
BEGIN:DAYLIGHT
TZOFFSETFROM:+0100
TZOFFSETTO:+0200
TZNAME:CEST
DTSTART:20240331T010000
END:DAYLIGHT
BEGIN:STANDARD
TZOFFSETFROM:+0200
TZOFFSETTO:+0100
TZNAME:CET
DTSTART:20241027T010000
END:STANDARD
BEGIN:DAYLIGHT
TZOFFSETFROM:+0100
TZOFFSETTO:+0200
TZNAME:CEST
DTSTART:20250330T010000
END:DAYLIGHT
BEGIN:STANDARD
TZOFFSETFROM:+0200
TZOFFSETTO:+0100
TZNAME:CET
DTSTART:20251026T010000
END:STANDARD
END:VTIMEZONE
BEGIN:VEVENT
DTSTART;TZID=Europe/Vienna:20240505T000000
DTEND;TZID=Europe/Vienna:20240510T235959
DTSTAMP:20260424T010953
CREATED:20240129T151759Z
LAST-MODIFIED:20240129T151759Z
UID:268800-1714867200-1715385599@biocrates.com
SUMMARY:Lipidomics GRC
DESCRIPTION:Sponsorship\nMeet biocrates at the Lipidomics GRC\, which is a premier\, international scientific conference focused on advancing the frontiers of science through the presentation of cutting-edge and unpublished research\, prioritizing time for discussion after each talk and fostering informal interactions among scientists of all career stages. Lipidomics is a dynamic and rapidly evolving field that aims to comprehensively study lipid molecules in cells\, tissues\, and biofluids. By unraveling lipid profiles\, this approach can provide essential insights into biological function\, health\, and disease. \nDate | May 05-10\, 2024\nLocation | Renaissance Tuscany Il Ciocco\, Lucca\, Italy\nMeet | Alice Limonciel\nProgram | 2024 Lipidomics Conference GRC
URL:https://biocrates.com/event/lipidomics-grc/
LOCATION:Renaissance Tuscany Il Ciocco\, Via Giovanni Pascoli\, Lucca\, Italy
ATTACH;FMTTYPE=image/jpeg:https://biocrates.com/wp-content/uploads/2024/01/Lipidomics.jpg
END:VEVENT
BEGIN:VEVENT
DTSTART;TZID=Europe/Vienna:20240513T000000
DTEND;TZID=Europe/Vienna:20240515T235959
DTSTAMP:20260424T010953
CREATED:20240507T145620Z
LAST-MODIFIED:20240507T145620Z
UID:270137-1715558400-1715817599@biocrates.com
SUMMARY:Abu Dhabi Global Healthcare Week
DESCRIPTION:Participation\nMeet biocrates at the Abu Dhabi Global Healthcare Week and participate in accelerating the future of global healthcare. \nDate | May\, 13 – 15\, 2024\nLocation | ADNEC & Abu Dhabi City\nRegistration | Abu Dhabi Global Healthcare Week (ADGHW) | 13 -15 MAY 2024\nMeet Carlos
URL:https://biocrates.com/event/abu-dhabi-global-healthcare-week/
ATTACH;FMTTYPE=image/jpeg:https://biocrates.com/wp-content/uploads/2024/05/Global-Healthcare-Week-2024-1.jpg
END:VEVENT
BEGIN:VEVENT
DTSTART;TZID=Europe/Vienna:20240516T100000
DTEND;TZID=Europe/Vienna:20240516T120000
DTSTAMP:20260424T010953
CREATED:20240507T141959Z
LAST-MODIFIED:20240507T141959Z
UID:270130-1715853600-1715860800@biocrates.com
SUMMARY:Lost in Translation – Where Omics meet Drug Discovery
DESCRIPTION:Participation\nJoin Stefan Ledinger\, Markus Langsdorf\, Bruno Manadas & Dorte Breinholdt Bekker-Jensen as they discuss how OMICS sciences are revolutionizing drug discovery in the pharmaceutical industry. \nDate | May 16\, 2024\nTime | 10 am – 12 pm CET\nLocation | Virtual\nRegistration | Pharma conclave series 2024 (sciex.com)
URL:https://biocrates.com/event/lost-in-translation-where-omics-meet-drug-discovery/
LOCATION:Virtual event
ATTACH;FMTTYPE=image/jpeg:https://biocrates.com/wp-content/uploads/2024/05/Lost-in-translation-2024.jpg
END:VEVENT
END:VCALENDAR