BEGIN:VCALENDAR
VERSION:2.0
PRODID:-//biocrates life sciences gmbh - ECPv6.15.20//NONSGML v1.0//EN
CALSCALE:GREGORIAN
METHOD:PUBLISH
X-WR-CALNAME:biocrates life sciences gmbh
X-ORIGINAL-URL:https://biocrates.com
X-WR-CALDESC:Events for biocrates life sciences gmbh
REFRESH-INTERVAL;VALUE=DURATION:PT1H
X-Robots-Tag:noindex
X-PUBLISHED-TTL:PT1H
BEGIN:VTIMEZONE
TZID:Europe/Vienna
BEGIN:DAYLIGHT
TZOFFSETFROM:+0100
TZOFFSETTO:+0200
TZNAME:CEST
DTSTART:20230326T010000
END:DAYLIGHT
BEGIN:STANDARD
TZOFFSETFROM:+0200
TZOFFSETTO:+0100
TZNAME:CET
DTSTART:20231029T010000
END:STANDARD
BEGIN:DAYLIGHT
TZOFFSETFROM:+0100
TZOFFSETTO:+0200
TZNAME:CEST
DTSTART:20240331T010000
END:DAYLIGHT
BEGIN:STANDARD
TZOFFSETFROM:+0200
TZOFFSETTO:+0100
TZNAME:CET
DTSTART:20241027T010000
END:STANDARD
BEGIN:DAYLIGHT
TZOFFSETFROM:+0100
TZOFFSETTO:+0200
TZNAME:CEST
DTSTART:20250330T010000
END:DAYLIGHT
BEGIN:STANDARD
TZOFFSETFROM:+0200
TZOFFSETTO:+0100
TZNAME:CET
DTSTART:20251026T010000
END:STANDARD
END:VTIMEZONE
BEGIN:VEVENT
DTSTART;TZID=Europe/Vienna:20240206T000000
DTEND;TZID=Europe/Vienna:20240209T235959
DTSTAMP:20260424T052834
CREATED:20240109T154718Z
LAST-MODIFIED:20240109T154718Z
UID:268525-1707177600-1707523199@biocrates.com
SUMMARY:International Stroke Conference 2024
DESCRIPTION:Participation\nThe International Stroke Conference is a meeting dedicated to the science and treatment of cerebrovascular disease and brain health. Join us in the conversation across numerous topics that emphasize basic\, clinical and translational science. \nDate | February 06-09\, 2024\nLocation | Phoenix Convention Center | Phoenix\, Arizona\nMeet | Marissa Jones\nProgram | International Stroke Conference Programming 
URL:https://biocrates.com/event/international-stroke-conference-2024/
LOCATION:Phoenix Convention Center\, Phoenix\, AZ\, United States
ATTACH;FMTTYPE=image/jpeg:https://biocrates.com/wp-content/uploads/2024/01/Stroke.jpg
END:VEVENT
BEGIN:VEVENT
DTSTART;TZID=Europe/Vienna:20240214T000000
DTEND;TZID=Europe/Vienna:20240216T235959
DTSTAMP:20260424T052834
CREATED:20240123T161018Z
LAST-MODIFIED:20240123T161018Z
UID:268751-1707868800-1708127999@biocrates.com
SUMMARY:Microbiome Interactions in Health and Disease
DESCRIPTION:Participation\nThis meeting will update current knowledge of microbiota ecology and the mechanisms by which microbiomes and their metabolites influence the immune system and development and function of different organs. The programme will also highlight new developments enabled by large-scale approaches and emerging technologies. \nDate | February 14-16\, 2024\nLocation | Wellcome Genome Campus\, Hinxton\, UK and Virtual\nMeet | Alice Limonciel\nProgram | Microbiome Interactions in Health and Disease 
URL:https://biocrates.com/event/microbiome-interactions-in-health-and-disease/
LOCATION:Wellcome Genome Campus\, Hinxton\, Hinxton\, CB10 1SA\, United Kingdom
ATTACH;FMTTYPE=image/webp:https://biocrates.com/wp-content/uploads/2024/01/WellcomeGenome1.webp
END:VEVENT
BEGIN:VEVENT
DTSTART;TZID=Europe/Vienna:20240229T000000
DTEND;TZID=Europe/Vienna:20240229T235959
DTSTAMP:20260424T052834
CREATED:20230810T070904Z
LAST-MODIFIED:20230810T070904Z
UID:266416-1709164800-1709251199@biocrates.com
SUMMARY:Vienna Metabolomics Meeting
DESCRIPTION:Vienna Metabolomics Meeting: From basic research to clinical applications\nby University of Viennaco-organized by biocrates\nMetabolism plays a vital role in countless biological processes. Consequently\, metabolomics has provided important insights into the pathophysiology of many diseases. In the symposium on February 29\, 2024 we want to celebrate the diverse applications of metabolomics\, from basic to clinical research. In addition\, we want to provide researchers with essential tips about project design and data analysis. After all\, quality data is essential in order to be able to draw correct conclusions.On the symposium\, we are going to hear from leading scientists in their respective fields how they have used metabolomics and the learnings that they can draw from their work. Join us as we explore the power of and success factors for metabolomics. \nDate | February 29\, 2024Time | Main program 13:00-18:00.From 10:00-13:00\, Stefan Ledinger of biocrates and the team of the Joint Metabolome Facility will be available for individual project discussionsLocation | University Vienna\, Sky Lounge\, Oskar-Morgenstern-Platz 1\, 1090 WienProgram & Registration | Vienna Metabolomics Meeting
URL:https://biocrates.com/event/vienna-metabolomics-meeting/
LOCATION:University Vienna\, Institute for analytical chemistry\, Währinger Straße 38\, Vienna\, 1090\, Austria
ATTACH;FMTTYPE=image/jpeg:https://biocrates.com/wp-content/uploads/2023/08/Mx-Vienna_600x250px.jpg
END:VEVENT
END:VCALENDAR