BEGIN:VCALENDAR
VERSION:2.0
PRODID:-//biocrates life sciences gmbh - ECPv6.15.20//NONSGML v1.0//EN
CALSCALE:GREGORIAN
METHOD:PUBLISH
X-WR-CALNAME:biocrates life sciences gmbh
X-ORIGINAL-URL:https://biocrates.com
X-WR-CALDESC:Events for biocrates life sciences gmbh
REFRESH-INTERVAL;VALUE=DURATION:PT1H
X-Robots-Tag:noindex
X-PUBLISHED-TTL:PT1H
BEGIN:VTIMEZONE
TZID:Europe/Vienna
BEGIN:DAYLIGHT
TZOFFSETFROM:+0100
TZOFFSETTO:+0200
TZNAME:CEST
DTSTART:20220327T010000
END:DAYLIGHT
BEGIN:STANDARD
TZOFFSETFROM:+0200
TZOFFSETTO:+0100
TZNAME:CET
DTSTART:20221030T010000
END:STANDARD
BEGIN:DAYLIGHT
TZOFFSETFROM:+0100
TZOFFSETTO:+0200
TZNAME:CEST
DTSTART:20230326T010000
END:DAYLIGHT
BEGIN:STANDARD
TZOFFSETFROM:+0200
TZOFFSETTO:+0100
TZNAME:CET
DTSTART:20231029T010000
END:STANDARD
BEGIN:DAYLIGHT
TZOFFSETFROM:+0100
TZOFFSETTO:+0200
TZNAME:CEST
DTSTART:20240331T010000
END:DAYLIGHT
BEGIN:STANDARD
TZOFFSETFROM:+0200
TZOFFSETTO:+0100
TZNAME:CET
DTSTART:20241027T010000
END:STANDARD
END:VTIMEZONE
BEGIN:VEVENT
DTSTART;TZID=Europe/Vienna:20230918T080000
DTEND;TZID=Europe/Vienna:20230918T170000
DTSTAMP:20260424T132006
CREATED:20230918T142857Z
LAST-MODIFIED:20230918T142857Z
UID:267331-1695024000-1695056400@biocrates.com
SUMMARY:30th Leibniz Conference
DESCRIPTION:Conference participation\n30th Leibniz Conference: 70 Years of DNA – Era of Translation \nWith the 30th Leibniz Conference\, the Leibniz Institute for Interdisciplinary Studies (LIFIS e.V.) is honouring the 70th anniversary of the discovery of DNA\, the central molecule of genome research. This discovery in molecular biology was fundamental for today’s biomedicine and is of infinite importance for human society. Today\, modern medicine is no longer conceivable without genome research. \nDate | October 06\, 2023\nLocation | Seminaris Campus Hotel\, Berlin-Dahlem | Germany\nMeet | Gordian Adam\, Bijon Chatterji\nProgram
URL:https://biocrates.com/event/30th-leibniz-conference/
LOCATION:Seminaris Campus Hotel\, Berlin-Dahlem\, Takustraße 89\, Berlin\, 14195\, Germany
ATTACH;FMTTYPE=image/webp:https://biocrates.com/wp-content/uploads/2023/09/Leibnitz_final.webp
END:VEVENT
BEGIN:VEVENT
DTSTART;TZID=Europe/Vienna:20230919T093000
DTEND;TZID=Europe/Vienna:20230919T140000
DTSTAMP:20260424T132006
CREATED:20230814T090115Z
LAST-MODIFIED:20230814T090115Z
UID:266969-1695115800-1695132000@biocrates.com
SUMMARY:Metabolomics India 2023
DESCRIPTION:Join the 2nd edition of our Metabolomics India 2023 virtual symposium featuring distinguished scientists from India and abroad! This year\, we are diving into a stimulating discussion on clinical applications of metabolomics\, unravelling the complexity of a variety of diseases\, such as inflammatory\, neurodegenerative and infectious diseases\, diabetes and cancer. \nDate | September 19\, 2023\nTime | 13:00-17:30 IST (09:30-14:00 CET)\nLocation | Virtual via ZOOM\nProgram | event page\nRegistration
URL:https://biocrates.com/event/metabolomics-india-2023/
LOCATION:Virtual event
ATTACH;FMTTYPE=image/jpeg:https://biocrates.com/wp-content/uploads/2023/08/Mx-India_600x250px-1.jpg
END:VEVENT
BEGIN:VEVENT
DTSTART;TZID=Europe/Vienna:20230926T000000
DTEND;TZID=Europe/Vienna:20230926T235959
DTSTAMP:20260424T132006
CREATED:20230810T071634Z
LAST-MODIFIED:20230810T071634Z
UID:266421-1695686400-1695772799@biocrates.com
SUMMARY:Heidelberg Metabolomics Symposium
DESCRIPTION:Metabolism in Cancer & Inflammation Research\nSponsored by biocrates\nThe Heidelberg Metabolomics Symposium will bring together international\, national and local experts in the field of metabolomics\, cancer and immunology research to discuss the current state of the art in the metabolomics field and to discuss future outlooks.\n \nDate | September 26\, 2023\nTime | 09:00 am-05:00 pm CET\nLocation: Conference Center of DKFZ Heidelberg\, Germany\nProgram | event page\nRegistration \n 
URL:https://biocrates.com/event/heidelberg-metabolomics-symposium/
LOCATION:DKFZ Heidelberg\, Im Neuenheimer Feld 280\, Heidelberg\, 69120\, Germany
ATTACH;FMTTYPE=image/webp:https://biocrates.com/wp-content/uploads/2023/08/Mx-Heidelberg2_600x250px.webp
END:VEVENT
BEGIN:VEVENT
DTSTART;TZID=Europe/Vienna:20230927T000000
DTEND;TZID=Europe/Vienna:20230927T235959
DTSTAMP:20260424T132006
CREATED:20230913T085550Z
LAST-MODIFIED:20230913T085550Z
UID:266654-1695772800-1695859199@biocrates.com
SUMMARY:DGMet Annual Meeting
DESCRIPTION:Sponsorship\nThe aim of DGMet (Deutsche Gesellschaft für Metabolomforschung) is to foster research in metabolism and to function as an interaction platform for scientists in the field. For this reason\, the society organizes a general yearly conference and smaller workshops for the society’s study groups.  \nDate | September 27\, 2023\nLocation | IAMO in Halle (Saale)\, Germany\nMeet | Bijon Chatterji\nProgram
URL:https://biocrates.com/event/dgmet-annual-meeting/
LOCATION:IAMO Halle\, Theodor-Lieser-Str. 2\, Halle\, 06120\, Germany
ATTACH;FMTTYPE=image/webp:https://biocrates.com/wp-content/uploads/2023/07/DGMet.webp
END:VEVENT
BEGIN:VEVENT
DTSTART;TZID=Europe/Vienna:20230927T000000
DTEND;TZID=Europe/Vienna:20230929T235959
DTSTAMP:20260424T132006
CREATED:20230913T092510Z
LAST-MODIFIED:20230913T092510Z
UID:267309-1695772800-1696031999@biocrates.com
SUMMARY:APMRS 2023
DESCRIPTION:Conference participation\nJoin us for the annual symposium APMRS 2023 of the Austrian Proteomics and Metabolomics Association (APMA) in Innsbruck\, Austria\, in 2023. This symposium will gather researchers\, scientists\, and experts in the field of proteomics and metabolomics for an enriching exchange of ideas and collaborations. \nDate | September 27-29\, 2023\nLocation | Center for Chemistry and Biomedicine (CCB) on Campus Innrain\nof the Leopold-Franzens-University Innsbruck.\nMeet | Alice Limonciel\nProgram & Registration
URL:https://biocrates.com/event/apmrs-2023/
LOCATION:Center for Chemistry and Biomedicine (CCB) on Campus Innrain of the Leopold-Franzens-University Innsbruck\, Innrain 80-82\, Innsbruck\, 6020\, Austria
ATTACH;FMTTYPE=image/webp:https://biocrates.com/wp-content/uploads/2023/09/APMA.webp
END:VEVENT
END:VCALENDAR