BEGIN:VCALENDAR
VERSION:2.0
PRODID:-//biocrates life sciences gmbh - ECPv6.15.20//NONSGML v1.0//EN
CALSCALE:GREGORIAN
METHOD:PUBLISH
X-ORIGINAL-URL:https://biocrates.com
X-WR-CALDESC:Events for biocrates life sciences gmbh
REFRESH-INTERVAL;VALUE=DURATION:PT1H
X-Robots-Tag:noindex
X-PUBLISHED-TTL:PT1H
BEGIN:VTIMEZONE
TZID:Europe/Vienna
BEGIN:DAYLIGHT
TZOFFSETFROM:+0100
TZOFFSETTO:+0200
TZNAME:CEST
DTSTART:20220327T010000
END:DAYLIGHT
BEGIN:STANDARD
TZOFFSETFROM:+0200
TZOFFSETTO:+0100
TZNAME:CET
DTSTART:20221030T010000
END:STANDARD
BEGIN:DAYLIGHT
TZOFFSETFROM:+0100
TZOFFSETTO:+0200
TZNAME:CEST
DTSTART:20230326T010000
END:DAYLIGHT
BEGIN:STANDARD
TZOFFSETFROM:+0200
TZOFFSETTO:+0100
TZNAME:CET
DTSTART:20231029T010000
END:STANDARD
BEGIN:DAYLIGHT
TZOFFSETFROM:+0100
TZOFFSETTO:+0200
TZNAME:CEST
DTSTART:20240331T010000
END:DAYLIGHT
BEGIN:STANDARD
TZOFFSETFROM:+0200
TZOFFSETTO:+0100
TZNAME:CET
DTSTART:20241027T010000
END:STANDARD
END:VTIMEZONE
BEGIN:VEVENT
DTSTART;TZID=Europe/Vienna:20230604T000000
DTEND;TZID=Europe/Vienna:20230608T235959
DTSTAMP:20260424T181909
CREATED:20230405T142527Z
LAST-MODIFIED:20230405T142527Z
UID:265067-1685836800-1686268799@biocrates.com
SUMMARY:ASMS 2023
DESCRIPTION:Sponsorship\nThe American Society for Mass Spectrometry (ASMS) was formed in 1969 to promote and disseminate knowledge of mass spectrometry and allied topics. Membership includes over 8\,500 scientists involved in research and development. Members come from academic\, industrial and governmental laboratories. Their interests include advancement of techniques and instrumentation in mass spectrometry\, as well as fundamental research in chemistry\, geology\, forensics\, biological sciences and physics. \nDate |  June 04-08\, 2023Location | George R. Brown Convention Center (GRB)   Houston\, TX\,biocrates booth | 519Meet | Fadi Abdi\, Stephen Dearth\, Markus Langsdorf\, Gregor OehmerProgram | https://www.asms.org \nPoster presentations by biocrates \nGregor OehmerJune 06\,2023 | 10:30 am – 02:30 pmP 095 | Quantitative metabolomics and lipidomics of more than 1\,400 biomarkers using cloud-based workflow management software with machine learning peak integration algorithm \nHoon Y Park and Stephen DearthJune 07\, 2023 | 10:30 am – 02:30 pmWP 316 | Metabolomics and lipidomics profiling applied to bioprocessing using a standardized\, quantitative protocol with high-resolution mass spectrometry
URL:https://biocrates.com/event/asms-2023/
LOCATION:George R. Brown Convention Center (GRB)\, Houston\, TX\, United States
ATTACH;FMTTYPE=image/jpeg:https://biocrates.com/wp-content/uploads/2023/04/ASMS-1-e1681204274558.jpg
END:VEVENT
BEGIN:VEVENT
DTSTART;TZID=Europe/Vienna:20230607T000000
DTEND;TZID=Europe/Vienna:20230609T235959
DTSTAMP:20260424T181909
CREATED:20230418T120637Z
LAST-MODIFIED:20230418T120637Z
UID:265313-1686096000-1686355199@biocrates.com
SUMMARY:Multi-omics in Metabolic Disease
DESCRIPTION:Conference participation\nMost non-communicable disease facing the world today is diet-related. This includes obesity\, type 2 diabetes\, dyslipidemia\, and a host of other related metabolic disorders. Although lifestyle is a factor\, it is clear there are powerful genetic and other biological influences informing susceptibility to these conditions. At this new conference\, global leaders in the field will provide updates on the use of GWAS and genomics\, epigenomics\, transcriptomics\, proteomics\, metabolomics and lipidomics.\nThis meeting aims to be highly interactive to improve inter-disciplinary knowledge-dissemination between scientists and clinicians working in basic and therapeutic research.\nThis conference will be a hybrid meeting – with onsite or virtual attendance. \nDate |  June 07-09\, 2023\nLocation | Hinxton Hall Conference Centre\,   Hinxton\nMeet | Dr. Therese Koal\, Dr. Matthias Scheffler\nProgram | Scientific program
URL:https://biocrates.com/event/multi-omics-in-metabolic-disease/
LOCATION:Hinxton Hall Conference Centre\, Hinxton\, United Kingdom
ATTACH;FMTTYPE=image/webp:https://biocrates.com/wp-content/uploads/2023/04/Multi_omics_Mx_disease.webp
END:VEVENT
BEGIN:VEVENT
DTSTART;TZID=Europe/Vienna:20230618T000000
DTEND;TZID=Europe/Vienna:20230622T235959
DTSTAMP:20260424T181909
CREATED:20230411T084820Z
LAST-MODIFIED:20230411T084820Z
UID:265110-1687046400-1687478399@biocrates.com
SUMMARY:Metabolomics 2023
DESCRIPTION:Sponsorship\nThe 19th Annual Conference of Metabolomics Society will take place in Niagara Falls\, Canada. It will cover the major scientific themes of: Technology Advances; Computational Metabolomics\, Statistics\, and Bioinformatics; Metabolomics in Health and Disease; and Metabolomics of Plants\, Food\, Environment and Microbes. A special theme for this conference will focus on Mental Health\, Drug Addiction and Medicinal Cannabis. \nDate |  June 18-22\, 2023\nLocation | Niagara Falls Convention Centre\,   6815 Stanley Ave\, Niagara Falls\nbiocrates booth | 201\nMeet |  Fadi Abdi\, Alice Limonciel\, Katherine Black\, Stephen Dearth\, Sebastian Gottfried\nProgram | https://www.metabolomics2023.org/agenda \nPoster presentation biocrates\nAlice Limonciel\nWednesday\, June 21\, 2023\, from 05:15 pm to 06:45 pm\nThursday\, June 22\, 2023\, from 09:30 am – 10:30 am\n#1099 | Fast-tracking the translation of metabolomics findings into clinical applications with broad panels of analytically validated biomarkers \nVendor session biocrates\nAlice Limonciel\nJune 20\, 2023 | 03:30 pm – 05:15 pm\nQuantitative Metabolomics Database (QMDB): Get access to reference ranges for 630 metabolites \n 
URL:https://biocrates.com/event/metabolomics-2023/
LOCATION:Niagara Falls Convention Centre\, 6815 Stanley Ave\, Niagara Falls\, Canada
ATTACH;FMTTYPE=image/jpeg:https://biocrates.com/wp-content/uploads/2023/04/Metabolomics23-e1681201740865.jpg
END:VEVENT
END:VCALENDAR