BEGIN:VCALENDAR
VERSION:2.0
PRODID:-//biocrates life sciences gmbh - ECPv6.15.20//NONSGML v1.0//EN
CALSCALE:GREGORIAN
METHOD:PUBLISH
X-WR-CALNAME:biocrates life sciences gmbh
X-ORIGINAL-URL:https://biocrates.com
X-WR-CALDESC:Events for biocrates life sciences gmbh
REFRESH-INTERVAL;VALUE=DURATION:PT1H
X-Robots-Tag:noindex
X-PUBLISHED-TTL:PT1H
BEGIN:VTIMEZONE
TZID:Europe/Vienna
BEGIN:DAYLIGHT
TZOFFSETFROM:+0100
TZOFFSETTO:+0200
TZNAME:CEST
DTSTART:20220327T010000
END:DAYLIGHT
BEGIN:STANDARD
TZOFFSETFROM:+0200
TZOFFSETTO:+0100
TZNAME:CET
DTSTART:20221030T010000
END:STANDARD
BEGIN:DAYLIGHT
TZOFFSETFROM:+0100
TZOFFSETTO:+0200
TZNAME:CEST
DTSTART:20230326T010000
END:DAYLIGHT
BEGIN:STANDARD
TZOFFSETFROM:+0200
TZOFFSETTO:+0100
TZNAME:CET
DTSTART:20231029T010000
END:STANDARD
BEGIN:DAYLIGHT
TZOFFSETFROM:+0100
TZOFFSETTO:+0200
TZNAME:CEST
DTSTART:20240331T010000
END:DAYLIGHT
BEGIN:STANDARD
TZOFFSETFROM:+0200
TZOFFSETTO:+0100
TZNAME:CET
DTSTART:20241027T010000
END:STANDARD
END:VTIMEZONE
BEGIN:VEVENT
DTSTART;TZID=Europe/Vienna:20230517T160000
DTEND;TZID=Europe/Vienna:20230517T173000
DTSTAMP:20260424T195516
CREATED:20230411T094935Z
LAST-MODIFIED:20230411T094935Z
UID:265124-1684339200-1684344600@biocrates.com
SUMMARY:Precision medicine - strategies to improve therapeutic outcome
DESCRIPTION:Webinar\nDiscover in our upcoming webinar how metabolomics is revolutionizing precision medicine.\nJoin our expert speakers as they share the latest breakthroughs in using metabolomics to optimize therapy response for cancer\, cardiovascular diseases\, and inflammatory bowel diseases.\nLearn how metabolomics is transforming the way we approach treatment. \nDate |  May 17\, 2023\nSpeakers | Prof. Dr. Konrad Aden\, Dr. Joseph Tintelnot\, Stefan Ledinger\nProgram | Registration page
URL:https://biocrates.com/event/precision-medicine-strategies-to-improve-therapeutic-outcome/
LOCATION:Virtual event
ATTACH;FMTTYPE=image/jpeg:https://biocrates.com/wp-content/uploads/2023/04/Banner-e1681216990360.jpg
END:VEVENT
BEGIN:VEVENT
DTSTART;TZID=Europe/Vienna:20230524T000000
DTEND;TZID=Europe/Vienna:20230526T235959
DTSTAMP:20260424T195516
CREATED:20230418T100447Z
LAST-MODIFIED:20230418T100447Z
UID:265271-1684886400-1685145599@biocrates.com
SUMMARY:15th scientific day of RFMF
DESCRIPTION:Sponsorship\nThe main themes selected for the 15th scientific day of the RFMF are the applications of metabolomics | fluxomics in the following fields:Microbiology\, Biotechnology\, Plants\, Feed\, Health\, Pharmacology / Toxicology and Environment.The organizers will also continue to highlight methodological and technological developments for metabolomics\, fluxomics and lipidomics with bioinformatics developments | interpretation tools analytical developments\, developments for signal processing | data extraction and developments in statistical processing | data integration. \nDate |  May 24-26\, 2023Location | Palais de congrès Perpignan Meet | Carlos Malpica\, The team of ProteigeneProgram | RFMF_Program
URL:https://biocrates.com/event/15th-scientific-day-of-rfmf/
LOCATION:Palais de congrès Perpignan\, Perpignan\, France
ATTACH;FMTTYPE=image/webp:https://biocrates.com/wp-content/uploads/2023/04/RFMF.webp
END:VEVENT
BEGIN:VEVENT
DTSTART;TZID=Europe/Vienna:20230524T000000
DTEND;TZID=Europe/Vienna:20230526T235959
DTSTAMP:20260424T195516
CREATED:20230418T112027Z
LAST-MODIFIED:20230418T112027Z
UID:265303-1684886400-1685145599@biocrates.com
SUMMARY:ESOC 2023
DESCRIPTION:Conference participation\nTaking place exclusively onsite in Munich\, we invite you to join us at ESOC\, a vibrant event for the stroke community\, designed to present to you a high-quality scientific program including major clinical trials\, state-of-the-art seminars\, educational workshops\, scientific communications of the latest research\, and debates about current controversies. For 2023 the focus lies on an onsite conference\, complemented with digital resources through the conference live-studio and availability of certain on-demand content for members after the event through the eSTEP platform. \nDate |  May 24-26\, 2023\nLocation | ICM – Internationales Congress Center München   Munich\nMeet | Stefan Ledinger\nProgram | https://apps.congrex.com/esoc2023/en-GB/PAG
URL:https://biocrates.com/event/esoc-2023/
LOCATION:ICM – Internationales Congress Center München\, Munich\, Germany
ATTACH;FMTTYPE=image/webp:https://biocrates.com/wp-content/uploads/2023/04/ESOC23-1.webp
END:VEVENT
END:VCALENDAR