BEGIN:VCALENDAR
VERSION:2.0
PRODID:-//biocrates life sciences gmbh - ECPv6.15.20//NONSGML v1.0//EN
CALSCALE:GREGORIAN
METHOD:PUBLISH
X-WR-CALNAME:biocrates life sciences gmbh
X-ORIGINAL-URL:https://biocrates.com
X-WR-CALDESC:Events for biocrates life sciences gmbh
REFRESH-INTERVAL;VALUE=DURATION:PT1H
X-Robots-Tag:noindex
X-PUBLISHED-TTL:PT1H
BEGIN:VTIMEZONE
TZID:Europe/Vienna
BEGIN:DAYLIGHT
TZOFFSETFROM:+0100
TZOFFSETTO:+0200
TZNAME:CEST
DTSTART:20220327T010000
END:DAYLIGHT
BEGIN:STANDARD
TZOFFSETFROM:+0200
TZOFFSETTO:+0100
TZNAME:CET
DTSTART:20221030T010000
END:STANDARD
BEGIN:DAYLIGHT
TZOFFSETFROM:+0100
TZOFFSETTO:+0200
TZNAME:CEST
DTSTART:20230326T010000
END:DAYLIGHT
BEGIN:STANDARD
TZOFFSETFROM:+0200
TZOFFSETTO:+0100
TZNAME:CET
DTSTART:20231029T010000
END:STANDARD
BEGIN:DAYLIGHT
TZOFFSETFROM:+0100
TZOFFSETTO:+0200
TZNAME:CEST
DTSTART:20240331T010000
END:DAYLIGHT
BEGIN:STANDARD
TZOFFSETFROM:+0200
TZOFFSETTO:+0100
TZNAME:CET
DTSTART:20241027T010000
END:STANDARD
END:VTIMEZONE
BEGIN:VTIMEZONE
TZID:America/Chicago
BEGIN:DAYLIGHT
TZOFFSETFROM:-0600
TZOFFSETTO:-0500
TZNAME:CDT
DTSTART:20220313T080000
END:DAYLIGHT
BEGIN:STANDARD
TZOFFSETFROM:-0500
TZOFFSETTO:-0600
TZNAME:CST
DTSTART:20221106T070000
END:STANDARD
BEGIN:DAYLIGHT
TZOFFSETFROM:-0600
TZOFFSETTO:-0500
TZNAME:CDT
DTSTART:20230312T080000
END:DAYLIGHT
BEGIN:STANDARD
TZOFFSETFROM:-0500
TZOFFSETTO:-0600
TZNAME:CST
DTSTART:20231105T070000
END:STANDARD
BEGIN:DAYLIGHT
TZOFFSETFROM:-0600
TZOFFSETTO:-0500
TZNAME:CDT
DTSTART:20240310T080000
END:DAYLIGHT
BEGIN:STANDARD
TZOFFSETFROM:-0500
TZOFFSETTO:-0600
TZNAME:CST
DTSTART:20241103T070000
END:STANDARD
END:VTIMEZONE
BEGIN:VEVENT
DTSTART;TZID=Europe/Vienna:20230517T160000
DTEND;TZID=Europe/Vienna:20230517T173000
DTSTAMP:20260423T113224
CREATED:20230411T094935Z
LAST-MODIFIED:20230411T094935Z
UID:265124-1684339200-1684344600@biocrates.com
SUMMARY:Precision medicine - strategies to improve therapeutic outcome
DESCRIPTION:Webinar\nDiscover in our upcoming webinar how metabolomics is revolutionizing precision medicine.\nJoin our expert speakers as they share the latest breakthroughs in using metabolomics to optimize therapy response for cancer\, cardiovascular diseases\, and inflammatory bowel diseases.\nLearn how metabolomics is transforming the way we approach treatment. \nDate |  May 17\, 2023\nSpeakers | Prof. Dr. Konrad Aden\, Dr. Joseph Tintelnot\, Stefan Ledinger\nProgram | Registration page
URL:https://biocrates.com/event/precision-medicine-strategies-to-improve-therapeutic-outcome/
LOCATION:Virtual event
ATTACH;FMTTYPE=image/jpeg:https://biocrates.com/wp-content/uploads/2023/04/Banner-e1681216990360.jpg
END:VEVENT
BEGIN:VEVENT
DTSTART;TZID=Europe/Vienna:20230425T000000
DTEND;TZID=Europe/Vienna:20230427T235959
DTSTAMP:20260423T113224
CREATED:20230407T073710Z
LAST-MODIFIED:20230407T073710Z
UID:265094-1682380800-1682639999@biocrates.com
SUMMARY:13th World Clinical Biomarker & CDx Europe Summit 2023
DESCRIPTION:Conference participation\nThe 13th Clinical Biomarkers & CDx Europe 2023 returns as the premier European forum for end-to-end discussions\, actionable insights and partnership development to guide biomarker discovery and companion diagnostics (CDx) development programmes as they progress towards commercialisation. \nDate |  April 24\, 2023Meet |  Stefan LedingerProgram |  https://cdx-europe.com/
URL:https://biocrates.com/event/13th-world-clinical-biomarker-cdx-europe-summit-2023/
LOCATION:Millennium Gloucester Hotel London Kensington\, London\, United Kingdom
ATTACH;FMTTYPE=image/png:https://biocrates.com/wp-content/uploads/2023/04/Precision-Medicine-in-Oncology-e1681201618908.png
END:VEVENT
BEGIN:VEVENT
DTSTART;TZID=America/Chicago:20230424T090000
DTEND;TZID=America/Chicago:20230424T130000
DTSTAMP:20260423T113224
CREATED:20230411T124210Z
LAST-MODIFIED:20230411T124210Z
UID:265128-1682326800-1682341200@biocrates.com
SUMMARY:Corewell Health Metabolomics Symposium
DESCRIPTION:Lunch & learn\nDiscover the power of metabolomics in improving health outcomes and tackling disease from leading experts such as Stewart Graham\, Caroline H Johnson\, Nichole Klatt\, PhD\, and Jan Krumsiek. This in-person event covers a range of application areas including Alzheimer’s Disease\, cancer\, the microbiome\, and multi-omics. Connect with like-minded individuals and stay up to date on the latest advancements in metabolomics for health and disease. \nDate |  April 24\, 2023\nMeet | Marissa Jones\, Stewart Graham\, Caroline H Johnson\, Nichole Klatt\, and Jan Krumsiek\nProgram | Registration page
URL:https://biocrates.com/event/corewell-health-metabolomics-symposium/
LOCATION:Corwell Health\, Royal Oak\, United States
ATTACH;FMTTYPE=image/jpeg:https://biocrates.com/wp-content/uploads/2023/04/Corwell-Health-e1681216317271.jpg
END:VEVENT
BEGIN:VEVENT
DTSTART;TZID=Europe/Vienna:20230417T000000
DTEND;TZID=Europe/Vienna:20230417T235959
DTSTAMP:20260423T113224
CREATED:20230311T132829Z
LAST-MODIFIED:20230311T132829Z
UID:264030-1681689600-1681775999@biocrates.com
SUMMARY:X-omics Festival
DESCRIPTION:Conference participation\nThe fifth edition of the X-omics festival “The future of multi-omics research is now!” will take place on Monday April 17th 2023. Showcasing research at different biological levels\, with a specific focus on multi-omics data integration or spatial omics. The event aims to bring together the multi-omics community. \nDate |  April 17\, 2023\nMeet | Bijon Chatterji\nProgram | Registration link
URL:https://biocrates.com/event/x-omics-festival-2/
LOCATION:Nijmegen\, Netherlands
ATTACH;FMTTYPE=image/webp:https://biocrates.com/wp-content/uploads/2023/03/X-omics-1-e1681203874157.webp
END:VEVENT
BEGIN:VEVENT
DTSTART;TZID=Europe/Vienna:20230402T000000
DTEND;TZID=Europe/Vienna:20230407T235959
DTSTAMP:20260423T113224
CREATED:20230311T131753Z
LAST-MODIFIED:20230311T131753Z
UID:264024-1680393600-1680911999@biocrates.com
SUMMARY:MSACL 2023
DESCRIPTION:Conference participation\nMSACL is focused on providing a forum of interaction for participants in all stages of the development\, advancement and use of analytical tools\, including data analytics\, in the clinic to improve patient care. \nMeet: Fadi Abdi\nRegistration: www.msacl.org
URL:https://biocrates.com/event/msacl-2023/
LOCATION:MA
CATEGORIES:Events
ATTACH;FMTTYPE=image/jpeg:https://biocrates.com/wp-content/uploads/2023/03/MSACL-2023-biocrates.jpg
END:VEVENT
BEGIN:VEVENT
DTSTART;TZID=Europe/Vienna:20230331T000000
DTEND;TZID=Europe/Vienna:20230331T235959
DTSTAMP:20260423T113224
CREATED:20230311T131611Z
LAST-MODIFIED:20230311T131611Z
UID:264018-1680220800-1680307199@biocrates.com
SUMMARY:Baylor College of Medicine Seminar (Houston)
DESCRIPTION:In-person Seminar\nQuantitative metabolomics for biological and clinical research using biocrates technology \nMeet: Marissa Jones\nRegistration: www.linkedin.com
URL:https://biocrates.com/event/baylor-college-of-medicine-seminar/
LOCATION:MA
CATEGORIES:Events
ATTACH;FMTTYPE=image/jpeg:https://biocrates.com/wp-content/uploads/2023/03/Baylor-event-2023.jpg
END:VEVENT
BEGIN:VEVENT
DTSTART;TZID=Europe/Vienna:20230328T000000
DTEND;TZID=Europe/Vienna:20230330T235959
DTSTAMP:20260423T113224
CREATED:20230311T130204Z
LAST-MODIFIED:20230311T130204Z
UID:263974-1679961600-1680220799@biocrates.com
SUMMARY:Microbiome movement Maternal and infant health
DESCRIPTION:Conference participation\nUniting the leading microbiome minds across pharma\, biotech and academia\, this three-day meeting will delve into the latest innovative research and product developments. \nMeet: Katherine Black\nRegistration: https://microbiome-infant-health.com/
URL:https://biocrates.com/event/microbiome-movement-maternal-and-infant-health/
LOCATION:MA
CATEGORIES:Events
ATTACH;FMTTYPE=image/jpeg:https://biocrates.com/wp-content/uploads/2023/03/microbiome-movement-biocrates-1.jpg
END:VEVENT
END:VCALENDAR