BEGIN:VCALENDAR
VERSION:2.0
PRODID:-//biocrates life sciences gmbh - ECPv6.15.20//NONSGML v1.0//EN
CALSCALE:GREGORIAN
METHOD:PUBLISH
X-ORIGINAL-URL:https://biocrates.com
X-WR-CALDESC:Events for biocrates life sciences gmbh
REFRESH-INTERVAL;VALUE=DURATION:PT1H
X-Robots-Tag:noindex
X-PUBLISHED-TTL:PT1H
BEGIN:VTIMEZONE
TZID:Europe/Madrid
BEGIN:DAYLIGHT
TZOFFSETFROM:+0100
TZOFFSETTO:+0200
TZNAME:CEST
DTSTART:20250330T010000
END:DAYLIGHT
BEGIN:STANDARD
TZOFFSETFROM:+0200
TZOFFSETTO:+0100
TZNAME:CET
DTSTART:20251026T010000
END:STANDARD
BEGIN:DAYLIGHT
TZOFFSETFROM:+0100
TZOFFSETTO:+0200
TZNAME:CEST
DTSTART:20260329T010000
END:DAYLIGHT
BEGIN:STANDARD
TZOFFSETFROM:+0200
TZOFFSETTO:+0100
TZNAME:CET
DTSTART:20261025T010000
END:STANDARD
BEGIN:DAYLIGHT
TZOFFSETFROM:+0100
TZOFFSETTO:+0200
TZNAME:CEST
DTSTART:20270328T010000
END:DAYLIGHT
BEGIN:STANDARD
TZOFFSETFROM:+0200
TZOFFSETTO:+0100
TZNAME:CET
DTSTART:20271031T010000
END:STANDARD
END:VTIMEZONE
BEGIN:VTIMEZONE
TZID:America/Toronto
BEGIN:DAYLIGHT
TZOFFSETFROM:-0500
TZOFFSETTO:-0400
TZNAME:EDT
DTSTART:20250309T070000
END:DAYLIGHT
BEGIN:STANDARD
TZOFFSETFROM:-0400
TZOFFSETTO:-0500
TZNAME:EST
DTSTART:20251102T060000
END:STANDARD
BEGIN:DAYLIGHT
TZOFFSETFROM:-0500
TZOFFSETTO:-0400
TZNAME:EDT
DTSTART:20260308T070000
END:DAYLIGHT
BEGIN:STANDARD
TZOFFSETFROM:-0400
TZOFFSETTO:-0500
TZNAME:EST
DTSTART:20261101T060000
END:STANDARD
BEGIN:DAYLIGHT
TZOFFSETFROM:-0500
TZOFFSETTO:-0400
TZNAME:EDT
DTSTART:20270314T070000
END:DAYLIGHT
BEGIN:STANDARD
TZOFFSETFROM:-0400
TZOFFSETTO:-0500
TZNAME:EST
DTSTART:20271107T060000
END:STANDARD
END:VTIMEZONE
BEGIN:VEVENT
DTSTART;VALUE=DATE:20260427
DTEND;VALUE=DATE:20260430
DTSTAMP:20260423T110515
CREATED:20260414T115401Z
LAST-MODIFIED:20260421T110221Z
UID:281128-1777248000-1777507199@biocrates.com
SUMMARY:Global Exposome Summit
DESCRIPTION:Participation\nMeet us at the Global Exposome Summit\, which brings together leading researchers to advance international collaboration in exposome science and its applications to human health. The event highlights the latest methodological\, scientific\, and infrastructure developments shaping the future of exposome research worldwide. \nDate | April 27-29\, 2026\nLocation | Sitges\, Barcelona\nMeet | Gordian Adam\, Alice Limonciel\nEvent page | https://www.globalexposomesummit.org/ \nPoster presentation by Gordian Adam\nID: 41\nTitle: Longitudinal monitoring of dietary exposome effects on metabolism with at-home dried blood sampling\nPanel: P-03\nPoster Session: Poster presentations 1\nGroup: Group 1.5 – Wearables and sensors
URL:https://biocrates.com/event/global-exposome-summit/
LOCATION:Sitges\, Barcelona
ATTACH;FMTTYPE=image/webp:https://biocrates.com/wp-content/uploads/2026/04/04-26_Global-Exposome-Summit_600x250.webp
END:VEVENT
BEGIN:VEVENT
DTSTART;VALUE=DATE:20260430
DTEND;VALUE=DATE:20260502
DTSTAMP:20260423T110515
CREATED:20260420T083906Z
LAST-MODIFIED:20260421T085424Z
UID:281167-1777507200-1777679999@biocrates.com
SUMMARY:Canadian Metabolomics Conference
DESCRIPTION:Sponsorship\nJoin us at the 7th Annual Canadian Metabolomics Conference (CanMetCon 2026)\, which will bring together Canadian and international experts to discuss the latest advances in metabolomics and multi‑omics research\, with a focus on health and disease. The conference takes place at York University’s Cornerstone Centre in Toronto\, Canada. \nDate | April 30 – May 1\, 2026\nLocation | Toronto\, Canada\nMeet | Stephen Dearth\, Cameron Ellis\nEvent page | 7th-annual-canadian-metabolomics-conference-2026
URL:https://biocrates.com/event/canadian-metabolomics-conference/
LOCATION:York University’s Cornerstone Centre – Toronto\, Canada
ATTACH;FMTTYPE=image/webp:https://biocrates.com/wp-content/uploads/2026/04/04-26_CanMetCon_600x250.webp
END:VEVENT
END:VCALENDAR