BEGIN:VCALENDAR
VERSION:2.0
PRODID:-//biocrates life sciences gmbh - ECPv6.15.20//NONSGML v1.0//EN
CALSCALE:GREGORIAN
METHOD:PUBLISH
X-ORIGINAL-URL:https://biocrates.com
X-WR-CALDESC:Events for biocrates life sciences gmbh
REFRESH-INTERVAL;VALUE=DURATION:PT1H
X-Robots-Tag:noindex
X-PUBLISHED-TTL:PT1H
BEGIN:VTIMEZONE
TZID:Europe/Vienna
BEGIN:DAYLIGHT
TZOFFSETFROM:+0100
TZOFFSETTO:+0200
TZNAME:CEST
DTSTART:20240331T010000
END:DAYLIGHT
BEGIN:STANDARD
TZOFFSETFROM:+0200
TZOFFSETTO:+0100
TZNAME:CET
DTSTART:20241027T010000
END:STANDARD
BEGIN:DAYLIGHT
TZOFFSETFROM:+0100
TZOFFSETTO:+0200
TZNAME:CEST
DTSTART:20250330T010000
END:DAYLIGHT
BEGIN:STANDARD
TZOFFSETFROM:+0200
TZOFFSETTO:+0100
TZNAME:CET
DTSTART:20251026T010000
END:STANDARD
BEGIN:DAYLIGHT
TZOFFSETFROM:+0100
TZOFFSETTO:+0200
TZNAME:CEST
DTSTART:20260329T010000
END:DAYLIGHT
BEGIN:STANDARD
TZOFFSETFROM:+0200
TZOFFSETTO:+0100
TZNAME:CET
DTSTART:20261025T010000
END:STANDARD
BEGIN:DAYLIGHT
TZOFFSETFROM:+0100
TZOFFSETTO:+0200
TZNAME:CEST
DTSTART:20270328T010000
END:DAYLIGHT
BEGIN:STANDARD
TZOFFSETFROM:+0200
TZOFFSETTO:+0100
TZNAME:CET
DTSTART:20271031T010000
END:STANDARD
END:VTIMEZONE
BEGIN:VTIMEZONE
TZID:Europe/Berlin
BEGIN:DAYLIGHT
TZOFFSETFROM:+0100
TZOFFSETTO:+0200
TZNAME:CEST
DTSTART:20240331T010000
END:DAYLIGHT
BEGIN:STANDARD
TZOFFSETFROM:+0200
TZOFFSETTO:+0100
TZNAME:CET
DTSTART:20241027T010000
END:STANDARD
BEGIN:DAYLIGHT
TZOFFSETFROM:+0100
TZOFFSETTO:+0200
TZNAME:CEST
DTSTART:20250330T010000
END:DAYLIGHT
BEGIN:STANDARD
TZOFFSETFROM:+0200
TZOFFSETTO:+0100
TZNAME:CET
DTSTART:20251026T010000
END:STANDARD
BEGIN:DAYLIGHT
TZOFFSETFROM:+0100
TZOFFSETTO:+0200
TZNAME:CEST
DTSTART:20260329T010000
END:DAYLIGHT
BEGIN:STANDARD
TZOFFSETFROM:+0200
TZOFFSETTO:+0100
TZNAME:CET
DTSTART:20261025T010000
END:STANDARD
END:VTIMEZONE
BEGIN:VTIMEZONE
TZID:Europe/Paris
BEGIN:DAYLIGHT
TZOFFSETFROM:+0100
TZOFFSETTO:+0200
TZNAME:CEST
DTSTART:20240331T010000
END:DAYLIGHT
BEGIN:STANDARD
TZOFFSETFROM:+0200
TZOFFSETTO:+0100
TZNAME:CET
DTSTART:20241027T010000
END:STANDARD
BEGIN:DAYLIGHT
TZOFFSETFROM:+0100
TZOFFSETTO:+0200
TZNAME:CEST
DTSTART:20250330T010000
END:DAYLIGHT
BEGIN:STANDARD
TZOFFSETFROM:+0200
TZOFFSETTO:+0100
TZNAME:CET
DTSTART:20251026T010000
END:STANDARD
BEGIN:DAYLIGHT
TZOFFSETFROM:+0100
TZOFFSETTO:+0200
TZNAME:CEST
DTSTART:20260329T010000
END:DAYLIGHT
BEGIN:STANDARD
TZOFFSETFROM:+0200
TZOFFSETTO:+0100
TZNAME:CET
DTSTART:20261025T010000
END:STANDARD
END:VTIMEZONE
BEGIN:VTIMEZONE
TZID:Europe/Stockholm
BEGIN:DAYLIGHT
TZOFFSETFROM:+0100
TZOFFSETTO:+0200
TZNAME:CEST
DTSTART:20250330T010000
END:DAYLIGHT
BEGIN:STANDARD
TZOFFSETFROM:+0200
TZOFFSETTO:+0100
TZNAME:CET
DTSTART:20251026T010000
END:STANDARD
BEGIN:DAYLIGHT
TZOFFSETFROM:+0100
TZOFFSETTO:+0200
TZNAME:CEST
DTSTART:20260329T010000
END:DAYLIGHT
BEGIN:STANDARD
TZOFFSETFROM:+0200
TZOFFSETTO:+0100
TZNAME:CET
DTSTART:20261025T010000
END:STANDARD
BEGIN:DAYLIGHT
TZOFFSETFROM:+0100
TZOFFSETTO:+0200
TZNAME:CEST
DTSTART:20270328T010000
END:DAYLIGHT
BEGIN:STANDARD
TZOFFSETFROM:+0200
TZOFFSETTO:+0100
TZNAME:CET
DTSTART:20271031T010000
END:STANDARD
END:VTIMEZONE
BEGIN:VTIMEZONE
TZID:America/Phoenix
BEGIN:STANDARD
TZOFFSETFROM:-0700
TZOFFSETTO:-0700
TZNAME:MST
DTSTART:20250101T000000
END:STANDARD
END:VTIMEZONE
BEGIN:VTIMEZONE
TZID:Asia/Seoul
BEGIN:STANDARD
TZOFFSETFROM:+0900
TZOFFSETTO:+0900
TZNAME:KST
DTSTART:20250101T000000
END:STANDARD
END:VTIMEZONE
BEGIN:VTIMEZONE
TZID:America/Los_Angeles
BEGIN:DAYLIGHT
TZOFFSETFROM:-0800
TZOFFSETTO:-0700
TZNAME:PDT
DTSTART:20250309T100000
END:DAYLIGHT
BEGIN:STANDARD
TZOFFSETFROM:-0700
TZOFFSETTO:-0800
TZNAME:PST
DTSTART:20251102T090000
END:STANDARD
BEGIN:DAYLIGHT
TZOFFSETFROM:-0800
TZOFFSETTO:-0700
TZNAME:PDT
DTSTART:20260308T100000
END:DAYLIGHT
BEGIN:STANDARD
TZOFFSETFROM:-0700
TZOFFSETTO:-0800
TZNAME:PST
DTSTART:20261101T090000
END:STANDARD
BEGIN:DAYLIGHT
TZOFFSETFROM:-0800
TZOFFSETTO:-0700
TZNAME:PDT
DTSTART:20270314T100000
END:DAYLIGHT
BEGIN:STANDARD
TZOFFSETFROM:-0700
TZOFFSETTO:-0800
TZNAME:PST
DTSTART:20271107T090000
END:STANDARD
END:VTIMEZONE
BEGIN:VTIMEZONE
TZID:Europe/Madrid
BEGIN:DAYLIGHT
TZOFFSETFROM:+0100
TZOFFSETTO:+0200
TZNAME:CEST
DTSTART:20250330T010000
END:DAYLIGHT
BEGIN:STANDARD
TZOFFSETFROM:+0200
TZOFFSETTO:+0100
TZNAME:CET
DTSTART:20251026T010000
END:STANDARD
BEGIN:DAYLIGHT
TZOFFSETFROM:+0100
TZOFFSETTO:+0200
TZNAME:CEST
DTSTART:20260329T010000
END:DAYLIGHT
BEGIN:STANDARD
TZOFFSETFROM:+0200
TZOFFSETTO:+0100
TZNAME:CET
DTSTART:20261025T010000
END:STANDARD
BEGIN:DAYLIGHT
TZOFFSETFROM:+0100
TZOFFSETTO:+0200
TZNAME:CEST
DTSTART:20270328T010000
END:DAYLIGHT
BEGIN:STANDARD
TZOFFSETFROM:+0200
TZOFFSETTO:+0100
TZNAME:CET
DTSTART:20271031T010000
END:STANDARD
END:VTIMEZONE
BEGIN:VTIMEZONE
TZID:America/Toronto
BEGIN:DAYLIGHT
TZOFFSETFROM:-0500
TZOFFSETTO:-0400
TZNAME:EDT
DTSTART:20250309T070000
END:DAYLIGHT
BEGIN:STANDARD
TZOFFSETFROM:-0400
TZOFFSETTO:-0500
TZNAME:EST
DTSTART:20251102T060000
END:STANDARD
BEGIN:DAYLIGHT
TZOFFSETFROM:-0500
TZOFFSETTO:-0400
TZNAME:EDT
DTSTART:20260308T070000
END:DAYLIGHT
BEGIN:STANDARD
TZOFFSETFROM:-0400
TZOFFSETTO:-0500
TZNAME:EST
DTSTART:20261101T060000
END:STANDARD
BEGIN:DAYLIGHT
TZOFFSETFROM:-0500
TZOFFSETTO:-0400
TZNAME:EDT
DTSTART:20270314T070000
END:DAYLIGHT
BEGIN:STANDARD
TZOFFSETFROM:-0400
TZOFFSETTO:-0500
TZNAME:EST
DTSTART:20271107T060000
END:STANDARD
END:VTIMEZONE
BEGIN:VEVENT
DTSTART;TZID=Europe/Vienna:20251007T160000
DTEND;TZID=Europe/Vienna:20251007T173000
DTSTAMP:20260422T234839
CREATED:20250901T101154Z
LAST-MODIFIED:20250901T101154Z
UID:278697-1759852800-1759858200@biocrates.com
SUMMARY:5P medicine | Transform neurology and oncology with metabolomics
DESCRIPTION:Virtual event\nThis webinar highlights how metabolomics is transforming neurology and oncology research within the framework of 5P medicine: preventive\, predictive\, precision\, population-based and participatory medicine. \nDate | October 07\, 2025\nLocation | Virtual on ZOOM\nTime | 04:00 pm CEST | 10:00 am EST\nMeet | Alice Limonciel\, Ph.D.\nProgram | Event page\nRegistration | Register for this online event
URL:https://biocrates.com/event/https-biocrates-com-5p-medicine_webinar/
LOCATION:Virtual
ATTACH;FMTTYPE=image/webp:https://biocrates.com/wp-content/uploads/2025/07/5P-CancerNeuro-webinar_internal-upcoming-events-600x250px.webp
END:VEVENT
BEGIN:VEVENT
DTSTART;VALUE=DATE:20251009
DTEND;VALUE=DATE:20251011
DTSTAMP:20260422T234839
CREATED:20250724T094408Z
LAST-MODIFIED:20250730T075433Z
UID:278860-1759968000-1760140799@biocrates.com
SUMMARY:Munich Metabolomics Meeting
DESCRIPTION:Participation\nbiocrates will be attending the 7th Munich Metabolomics Meeting\, bringing together researchers to share recent advances in metabolomics\, lipidomics\, and microbial metabolism. \nDate | October 9 – 10\, 2025\nLocation | Munich\, Germany\nMeet | Stefan Ledinger\nEvent page | https://www.munichmetabolomics.com/
URL:https://biocrates.com/event/munich-metabolomics-meeting/
LOCATION:TUM School of Life Sciences\, Alte Akademie 8\, 85354 Freising\, Germany
ATTACH;FMTTYPE=image/webp:https://biocrates.com/wp-content/uploads/2025/07/10_Munich-Metabolomics_600x250.webp
END:VEVENT
BEGIN:VEVENT
DTSTART;TZID=Europe/Vienna:20251104T083000
DTEND;TZID=Europe/Vienna:20251104T160000
DTSTAMP:20260422T234839
CREATED:20250929T132303Z
LAST-MODIFIED:20250929T132505Z
UID:279467-1762245000-1762272000@biocrates.com
SUMMARY:Metabolomics India 2025
DESCRIPTION:Advancing 5P medicine with multiomics\nMetabolomics India 2025\, focuses on discoveries made with metabolomics and multiomics in research today and how they will likely be leveraged by medicine in the future. \n5P medicine is a concept developed to address the limitations of Western medicine with the insights provided by omics technologies. Instead of reacting to illness or injury\, 5P medicine makes use of five components – preventive\, predictive\, precision\, population-based\, and participatory medicine – shifting the focus towards a proactive\, patient-centric approach. While genomics can indicate predisposition or drug response\, it cannot account for dynamic environmental and lifestyle factors that influence outcomes. Metabolomics can bridge this gap by capturing the functional biochemical state of the organism and how it’s influenced by how we live our lives. \nDate | November 04\, 2025\nTime | 1:00 pm IST | 08:30 am CET\nVirtual on ZOOM \nMeet | Dr. Shantanu Sengupta\, Dr. Kuppan Gokulakrishnan\, Dr. Seetaramanjaneyulu Gundimeda\, Dr. H. P. Sharma\, Dr. Rashmi D.\, Dr. Sapna Sharma\, Dr. Jyoti Arora\,\nDr. Ingrida Olendraite\, Dr. Alice Limonciel\, Dr. Bishu Niederbacher\, Dr. Carmen-Ludwig Papst\, Manoj Kumar \nEvent page with more information | https://biocrates.com/metabolomics_india_2025/\nRegister directly | https://us06web.zoom.us/webinar/ \nWatch recordings of Metabolomics India 2024
URL:https://biocrates.com/event/metabolomics-india-2025/
LOCATION:ZOOM
ATTACH;FMTTYPE=image/jpeg:https://biocrates.com/wp-content/uploads/2025/09/India-upcoming-events-600x250px.jpg
END:VEVENT
BEGIN:VEVENT
DTSTART;VALUE=DATE:20251106
DTEND;VALUE=DATE:20251107
DTSTAMP:20260422T234839
CREATED:20250904T075616Z
LAST-MODIFIED:20250929T084129Z
UID:279094-1762387200-1762473599@biocrates.com
SUMMARY:Le Club des Belles Souris
DESCRIPTION:Sponsorship\nJoin us at the the Club des Belles Souris symposium\, a unique scientific conference on mammalian research that also contributes to continuing professional education. \nDate | November 6\, 2025\nLocation | Lille\, France\nMeet |  our distributor Proteigene\nEvent page | http://clubdesbellessouris.free.fr/?page_id=861
URL:https://biocrates.com/event/le-club-des-belles-souris/
LOCATION:Institut Gernez Rieux\, 2 rue du Dr Schweitzer\, Lille\, 59037\, France
ATTACH;FMTTYPE=image/webp:https://biocrates.com/wp-content/uploads/2025/09/11_Club-des-Belles-Souris_600x250.webp
END:VEVENT
BEGIN:VEVENT
DTSTART;VALUE=DATE:20260127
DTEND;VALUE=DATE:20260129
DTSTAMP:20260422T234839
CREATED:20260121T131245Z
LAST-MODIFIED:20260122T100100Z
UID:280637-1769472000-1769644799@biocrates.com
SUMMARY:Metabolomics in Life Science
DESCRIPTION:Participation\nmeet us at the Conference Metabolomics in Life Science 2026\, showcasing th latest NMR- and MS-based metabolomics research from Sweden\, the Nordics\, and beyond to discuss advandes in clinical and pecision medicine\, plant metabolomics\, spatial and single-cell metabolomics\, multi-omics\, and computational/AI applications. \nDate | January 27 – 28\, 2026\nLocation | Umeå\, Sweden\nMeet | our Distributor Kem-En-Tec\, Carmen Ludwig-Papst\nEvent page | Metabolomics in Life Science \nPresentation\nDate | January 27\, 2026\nTime | 11.50 am – 12.10 pm \nTitle | 5P medicine in quantitative metabolomics\nSpeaker | Carmen Ludwig-Papst
URL:https://biocrates.com/event/metabolomics-in-life-science/
LOCATION:Umeå University\, Sweden\, Storgatan 46A\, 903 26\, Umeå\, Sweden
ATTACH;FMTTYPE=image/webp:https://biocrates.com/wp-content/uploads/2026/01/01-26_Metabolomics-Life-Sciences_600x250.webp
END:VEVENT
BEGIN:VEVENT
DTSTART;VALUE=DATE:20260220
DTEND;VALUE=DATE:20260221
DTSTAMP:20260422T234839
CREATED:20260122T105139Z
LAST-MODIFIED:20260204T083659Z
UID:280647-1771545600-1771631999@biocrates.com
SUMMARY:Arizona Metabolomics Symposium 2026
DESCRIPTION:Participation\nJoin us at the Arizona Metabolomics Symposium 2026\, an event exploring the latest developments in metabolomics research\, its applications in health and metabolism\, and fostering collaboration among scientists and the public. Attendees will hear from leading experts and engage with cutting-edge topics aimed at advancing knowledge and skills in this dynamic field. \nDate | February 20\, 2026\nLocation | Phoenix\, Arizona\, USA\nMeet | Cameron Ellis\nEvent page | Arizona Metabolomics symposium
URL:https://biocrates.com/event/arizona-metabolomics-symposium-2026/
LOCATION:Arizona State University\, 1151 S Forest Ave\, Tempe\, Phoenix\, Arizona
ATTACH;FMTTYPE=image/webp:https://biocrates.com/wp-content/uploads/2026/01/02-26_Arizona-Metabolomics_600x250.webp
END:VEVENT
BEGIN:VEVENT
DTSTART;VALUE=DATE:20260310
DTEND;VALUE=DATE:20260314
DTSTAMP:20260422T234839
CREATED:20260129T112040Z
LAST-MODIFIED:20260129T120827Z
UID:280673-1773100800-1773446399@biocrates.com
SUMMARY:Annual conference DGMS 2026
DESCRIPTION:The 57th Annual Conference of the DGMS\, dedicated to the diversity and innovative potential of mass spectrometry across instrumentation\, analytical strategies\, and interdisciplinary applications\, will bring together researchers\, postdocs and experts for scientific talks\, posters\, and networking in Leipzig. \nDate | March 10 – 13\, 2026\nLocation | Leipzig\, Germany\nMeet | Karin Yeoh\, Stefan Ledinger\nEvent page | https://dgms-conference.com/
URL:https://biocrates.com/event/annual-conference-dgms-2026/
LOCATION:Universität Leipzig\, Jahnallee 59\, Haus 1\, Leipzig\, 04109\, Germany
ATTACH;FMTTYPE=image/webp:https://biocrates.com/wp-content/uploads/2026/01/03-26_DGMS-2026_600x250.webp
END:VEVENT
BEGIN:VEVENT
DTSTART;VALUE=DATE:20260401
DTEND;VALUE=DATE:20260405
DTSTAMP:20260422T234839
CREATED:20260326T131836Z
LAST-MODIFIED:20260326T131836Z
UID:281048-1775001600-1775347199@biocrates.com
SUMMARY:Korean Metabolomics Society Meeting – KOMETS
DESCRIPTION:Korean Metabolomics Society Meeting – KOMETS\nThe Korea Metabolomics Society will host its 2026 Annual Symposium and General Meeting in Seoul\, bringing together researchers and professionals to explore the latest advances in metabolomics. This event offers a comprehensive scientific program and opportunities for collaboration across the metabolomics community. \nDate | April 1 – 4\, 2026\nLocation | Sejong University Convention Center\, Seoul\nMeet | Carmen Ludwig-Papst\nEvent page | https://www.komets.or.kr/
URL:https://biocrates.com/event/korean-metabolomics-society-meeting-komets/
LOCATION:Sejong University Convention Center\, Seoul\, Sejong University Convention Center\, Seoul\, Korea\, Republic of
ATTACH;FMTTYPE=image/webp:https://biocrates.com/wp-content/uploads/2026/03/04-26_KoMet-2026_600x250.webp
END:VEVENT
BEGIN:VEVENT
DTSTART;VALUE=DATE:20260417
DTEND;VALUE=DATE:20260423
DTSTAMP:20260422T234839
CREATED:20260323T110034Z
LAST-MODIFIED:20260323T110916Z
UID:281011-1776384000-1776902399@biocrates.com
SUMMARY:Biognosys Group at AACR
DESCRIPTION:Biognosys Group at AACR\nThe AACR (American Association for Cancer Research) Annual Meeting is the focal point of the cancer research community\, where scientists\, clinicians\, other health care professionals\, survivors\, patients\, and advocates gather to share the latest advances in cancer science and medicine.\nDiscover our latest omic solutions to tackle cancer research:\n• MxP Quant 1000 kit\n• P2-iST & BeatBox\n• TrueSignature & TrueTarget \nDate | April 17-22\, 2026\nLocation | San Diego\, California\, USA\nMeet | Stephen Dearth at booth #2351\nBiognosys page | biognosys.com/conferences/aacr \nEvent page | AACR annual meeting 2026
URL:https://biocrates.com/event/biognosys-group-at-aacr-2026/
LOCATION:San Diego Convention Center
ATTACH;FMTTYPE=image/webp:https://biocrates.com/wp-content/uploads/2026/03/04-26_AACR_600x250.webp
END:VEVENT
BEGIN:VEVENT
DTSTART;VALUE=DATE:20260427
DTEND;VALUE=DATE:20260430
DTSTAMP:20260422T234839
CREATED:20260414T115401Z
LAST-MODIFIED:20260421T110221Z
UID:281128-1777248000-1777507199@biocrates.com
SUMMARY:Global Exposome Summit
DESCRIPTION:Participation\nMeet us at the Global Exposome Summit\, which brings together leading researchers to advance international collaboration in exposome science and its applications to human health. The event highlights the latest methodological\, scientific\, and infrastructure developments shaping the future of exposome research worldwide. \nDate | April 27-29\, 2026\nLocation | Sitges\, Barcelona\nMeet | Gordian Adam\, Alice Limonciel\nEvent page | https://www.globalexposomesummit.org/ \nPoster presentation by Gordian Adam\nID: 41\nTitle: Longitudinal monitoring of dietary exposome effects on metabolism with at-home dried blood sampling\nPanel: P-03\nPoster Session: Poster presentations 1\nGroup: Group 1.5 – Wearables and sensors
URL:https://biocrates.com/event/global-exposome-summit/
LOCATION:Sitges\, Barcelona
ATTACH;FMTTYPE=image/webp:https://biocrates.com/wp-content/uploads/2026/04/04-26_Global-Exposome-Summit_600x250.webp
END:VEVENT
BEGIN:VEVENT
DTSTART;VALUE=DATE:20260430
DTEND;VALUE=DATE:20260502
DTSTAMP:20260422T234839
CREATED:20260420T083906Z
LAST-MODIFIED:20260421T085424Z
UID:281167-1777507200-1777679999@biocrates.com
SUMMARY:Canadian Metabolomics Conference
DESCRIPTION:Sponsorship\nJoin us at the 7th Annual Canadian Metabolomics Conference (CanMetCon 2026)\, which will bring together Canadian and international experts to discuss the latest advances in metabolomics and multi‑omics research\, with a focus on health and disease. The conference takes place at York University’s Cornerstone Centre in Toronto\, Canada. \nDate | April 30 – May 1\, 2026\nLocation | Toronto\, Canada\nMeet | Stephen Dearth\, Cameron Ellis\nEvent page | 7th-annual-canadian-metabolomics-conference-2026
URL:https://biocrates.com/event/canadian-metabolomics-conference/
LOCATION:York University’s Cornerstone Centre – Toronto\, Canada
ATTACH;FMTTYPE=image/webp:https://biocrates.com/wp-content/uploads/2026/04/04-26_CanMetCon_600x250.webp
END:VEVENT
END:VCALENDAR