BEGIN:VCALENDAR
VERSION:2.0
PRODID:-//biocrates life sciences gmbh - ECPv6.15.20//NONSGML v1.0//EN
CALSCALE:GREGORIAN
METHOD:PUBLISH
X-WR-CALNAME:biocrates life sciences gmbh
X-ORIGINAL-URL:https://biocrates.com
X-WR-CALDESC:Events for biocrates life sciences gmbh
REFRESH-INTERVAL;VALUE=DURATION:PT1H
X-Robots-Tag:noindex
X-PUBLISHED-TTL:PT1H
BEGIN:VTIMEZONE
TZID:Europe/Vienna
BEGIN:DAYLIGHT
TZOFFSETFROM:+0100
TZOFFSETTO:+0200
TZNAME:CEST
DTSTART:20240331T010000
END:DAYLIGHT
BEGIN:STANDARD
TZOFFSETFROM:+0200
TZOFFSETTO:+0100
TZNAME:CET
DTSTART:20241027T010000
END:STANDARD
BEGIN:DAYLIGHT
TZOFFSETFROM:+0100
TZOFFSETTO:+0200
TZNAME:CEST
DTSTART:20250330T010000
END:DAYLIGHT
BEGIN:STANDARD
TZOFFSETFROM:+0200
TZOFFSETTO:+0100
TZNAME:CET
DTSTART:20251026T010000
END:STANDARD
BEGIN:DAYLIGHT
TZOFFSETFROM:+0100
TZOFFSETTO:+0200
TZNAME:CEST
DTSTART:20260329T010000
END:DAYLIGHT
BEGIN:STANDARD
TZOFFSETFROM:+0200
TZOFFSETTO:+0100
TZNAME:CET
DTSTART:20261025T010000
END:STANDARD
END:VTIMEZONE
BEGIN:VEVENT
DTSTART;TZID=Europe/Vienna:20251104T083000
DTEND;TZID=Europe/Vienna:20251104T160000
DTSTAMP:20260422T202220
CREATED:20250929T132303Z
LAST-MODIFIED:20250929T132505Z
UID:279467-1762245000-1762272000@biocrates.com
SUMMARY:Metabolomics India 2025
DESCRIPTION:Advancing 5P medicine with multiomics\nMetabolomics India 2025\, focuses on discoveries made with metabolomics and multiomics in research today and how they will likely be leveraged by medicine in the future. \n5P medicine is a concept developed to address the limitations of Western medicine with the insights provided by omics technologies. Instead of reacting to illness or injury\, 5P medicine makes use of five components – preventive\, predictive\, precision\, population-based\, and participatory medicine – shifting the focus towards a proactive\, patient-centric approach. While genomics can indicate predisposition or drug response\, it cannot account for dynamic environmental and lifestyle factors that influence outcomes. Metabolomics can bridge this gap by capturing the functional biochemical state of the organism and how it’s influenced by how we live our lives. \nDate | November 04\, 2025\nTime | 1:00 pm IST | 08:30 am CET\nVirtual on ZOOM \nMeet | Dr. Shantanu Sengupta\, Dr. Kuppan Gokulakrishnan\, Dr. Seetaramanjaneyulu Gundimeda\, Dr. H. P. Sharma\, Dr. Rashmi D.\, Dr. Sapna Sharma\, Dr. Jyoti Arora\,\nDr. Ingrida Olendraite\, Dr. Alice Limonciel\, Dr. Bishu Niederbacher\, Dr. Carmen-Ludwig Papst\, Manoj Kumar \nEvent page with more information | https://biocrates.com/metabolomics_india_2025/\nRegister directly | https://us06web.zoom.us/webinar/ \nWatch recordings of Metabolomics India 2024
URL:https://biocrates.com/event/metabolomics-india-2025/
LOCATION:ZOOM
ATTACH;FMTTYPE=image/jpeg:https://biocrates.com/wp-content/uploads/2025/09/India-upcoming-events-600x250px.jpg
END:VEVENT
END:VCALENDAR