BEGIN:VCALENDAR
VERSION:2.0
PRODID:-//biocrates life sciences gmbh - ECPv6.15.20//NONSGML v1.0//EN
CALSCALE:GREGORIAN
METHOD:PUBLISH
X-ORIGINAL-URL:https://biocrates.com
X-WR-CALDESC:Events for biocrates life sciences gmbh
REFRESH-INTERVAL;VALUE=DURATION:PT1H
X-Robots-Tag:noindex
X-PUBLISHED-TTL:PT1H
BEGIN:VTIMEZONE
TZID:Europe/Vienna
BEGIN:DAYLIGHT
TZOFFSETFROM:+0100
TZOFFSETTO:+0200
TZNAME:CEST
DTSTART:20240331T010000
END:DAYLIGHT
BEGIN:STANDARD
TZOFFSETFROM:+0200
TZOFFSETTO:+0100
TZNAME:CET
DTSTART:20241027T010000
END:STANDARD
BEGIN:DAYLIGHT
TZOFFSETFROM:+0100
TZOFFSETTO:+0200
TZNAME:CEST
DTSTART:20250330T010000
END:DAYLIGHT
BEGIN:STANDARD
TZOFFSETFROM:+0200
TZOFFSETTO:+0100
TZNAME:CET
DTSTART:20251026T010000
END:STANDARD
BEGIN:DAYLIGHT
TZOFFSETFROM:+0100
TZOFFSETTO:+0200
TZNAME:CEST
DTSTART:20260329T010000
END:DAYLIGHT
BEGIN:STANDARD
TZOFFSETFROM:+0200
TZOFFSETTO:+0100
TZNAME:CET
DTSTART:20261025T010000
END:STANDARD
END:VTIMEZONE
BEGIN:VEVENT
DTSTART;TZID=Europe/Vienna:20251007T160000
DTEND;TZID=Europe/Vienna:20251007T173000
DTSTAMP:20260422T215534
CREATED:20250901T101154Z
LAST-MODIFIED:20250901T101154Z
UID:278697-1759852800-1759858200@biocrates.com
SUMMARY:5P medicine | Transform neurology and oncology with metabolomics
DESCRIPTION:Virtual event\nThis webinar highlights how metabolomics is transforming neurology and oncology research within the framework of 5P medicine: preventive\, predictive\, precision\, population-based and participatory medicine. \nDate | October 07\, 2025\nLocation | Virtual on ZOOM\nTime | 04:00 pm CEST | 10:00 am EST\nMeet | Alice Limonciel\, Ph.D.\nProgram | Event page\nRegistration | Register for this online event
URL:https://biocrates.com/event/https-biocrates-com-5p-medicine_webinar/
LOCATION:Virtual
ATTACH;FMTTYPE=image/webp:https://biocrates.com/wp-content/uploads/2025/07/5P-CancerNeuro-webinar_internal-upcoming-events-600x250px.webp
END:VEVENT
END:VCALENDAR