BEGIN:VCALENDAR
VERSION:2.0
PRODID:-//biocrates life sciences gmbh - ECPv6.15.20//NONSGML v1.0//EN
CALSCALE:GREGORIAN
METHOD:PUBLISH
X-ORIGINAL-URL:https://biocrates.com
X-WR-CALDESC:Events for biocrates life sciences gmbh
REFRESH-INTERVAL;VALUE=DURATION:PT1H
X-Robots-Tag:noindex
X-PUBLISHED-TTL:PT1H
BEGIN:VTIMEZONE
TZID:Europe/Vienna
BEGIN:DAYLIGHT
TZOFFSETFROM:+0100
TZOFFSETTO:+0200
TZNAME:CEST
DTSTART:20240331T010000
END:DAYLIGHT
BEGIN:STANDARD
TZOFFSETFROM:+0200
TZOFFSETTO:+0100
TZNAME:CET
DTSTART:20241027T010000
END:STANDARD
BEGIN:DAYLIGHT
TZOFFSETFROM:+0100
TZOFFSETTO:+0200
TZNAME:CEST
DTSTART:20250330T010000
END:DAYLIGHT
BEGIN:STANDARD
TZOFFSETFROM:+0200
TZOFFSETTO:+0100
TZNAME:CET
DTSTART:20251026T010000
END:STANDARD
BEGIN:DAYLIGHT
TZOFFSETFROM:+0100
TZOFFSETTO:+0200
TZNAME:CEST
DTSTART:20260329T010000
END:DAYLIGHT
BEGIN:STANDARD
TZOFFSETFROM:+0200
TZOFFSETTO:+0100
TZNAME:CET
DTSTART:20261025T010000
END:STANDARD
END:VTIMEZONE
BEGIN:VTIMEZONE
TZID:America/Toronto
BEGIN:DAYLIGHT
TZOFFSETFROM:-0500
TZOFFSETTO:-0400
TZNAME:EDT
DTSTART:20240310T070000
END:DAYLIGHT
BEGIN:STANDARD
TZOFFSETFROM:-0400
TZOFFSETTO:-0500
TZNAME:EST
DTSTART:20241103T060000
END:STANDARD
BEGIN:DAYLIGHT
TZOFFSETFROM:-0500
TZOFFSETTO:-0400
TZNAME:EDT
DTSTART:20250309T070000
END:DAYLIGHT
BEGIN:STANDARD
TZOFFSETFROM:-0400
TZOFFSETTO:-0500
TZNAME:EST
DTSTART:20251102T060000
END:STANDARD
BEGIN:DAYLIGHT
TZOFFSETFROM:-0500
TZOFFSETTO:-0400
TZNAME:EDT
DTSTART:20260308T070000
END:DAYLIGHT
BEGIN:STANDARD
TZOFFSETFROM:-0400
TZOFFSETTO:-0500
TZNAME:EST
DTSTART:20261101T060000
END:STANDARD
END:VTIMEZONE
BEGIN:VEVENT
DTSTART;VALUE=DATE:20250921
DTEND;VALUE=DATE:20250925
DTSTAMP:20260423T011048
CREATED:20250625T095338Z
LAST-MODIFIED:20250819T140742Z
UID:278616-1758412800-1758758399@biocrates.com
SUMMARY:ICBL Alpine Air & Lipid Flare
DESCRIPTION:Participation\nICBL brings together esteemed lipid experts and young researchers worldwide to share the latest advances in lipid science through presentations\, interactive sessions\, and networking. Join biocrates at this event and don’t miss the talk of Alice Limonciel on Sunday 21\, 2025. \nDate | September 21 – 24\, 2025\nLocation | Innsbruck\, Austria\nMeet | Alice Limonciel\, Rebecca Myers\nEvent page | www.gerli.com/icbl-2025/
URL:https://biocrates.com/event/icbl-alpine-air-lipid-flare/
LOCATION:Agnes Heller Haus\, Innrain 52a\, Innsbruck\, 6020\, Austria
ATTACH;FMTTYPE=image/webp:https://biocrates.com/wp-content/uploads/2025/06/09_ICBL_600x250.webp
END:VEVENT
BEGIN:VEVENT
DTSTART;VALUE=DATE:20250921
DTEND;VALUE=DATE:20250927
DTSTAMP:20260423T011048
CREATED:20250625T105017Z
LAST-MODIFIED:20250923T090219Z
UID:278641-1758412800-1758931199@biocrates.com
SUMMARY:MSACL 2025
DESCRIPTION:Participation\nMeet biocrates at MSACL 2025 in Montréal\, Canada\, where practitioners\, scientists\, and healthcare professionals will converge to advance clinical mass spectrometry\, analytical techniques\, and data‑driven laboratory diagnostics for improved patient care. \nDate | September 21 – 26\, 2025\nLocation | Montreal\, Canada\nMeet | Sebastian Gottfried\nEvent page | https://www.msacl.org/\nEvent page Bruker | MSACL | Bruker \nPoster presentation\nby Sebastian Gottfried\nThursday\, September 25\, 2025 | 12:15 pm | Poster #47c\nTitle: “Quantitative\, large panel metabolomics and lipidomics with the MxP® Quant 1000 kit optimized and validated for the Bruker EVOQ DART-TQ⁺ mass spectrometer”
URL:https://biocrates.com/event/msacl-2025/
LOCATION:Bonaventure Hotel Conference Center\, 900 Rue De la Gauchetière O\, Montréal\, Canada
ATTACH;FMTTYPE=image/webp:https://biocrates.com/wp-content/uploads/2025/06/09_MSACL_600x250.webp
END:VEVENT
BEGIN:VEVENT
DTSTART;VALUE=DATE:20250922
DTEND;VALUE=DATE:20250926
DTSTAMP:20260423T011048
CREATED:20250819T133725Z
LAST-MODIFIED:20250819T140820Z
UID:279008-1758499200-1758844799@biocrates.com
SUMMARY:NuGOweek 2025
DESCRIPTION:Sponsorship\nJoin us at NuGOweek 2025\, as we explore ground-breaking research\, connect with leading experts\, and envision a future where personalised nutrition transforms lives. This year\, the 21st anniversary edition of NUGOweek\, is hosted by the UCD Institute of Food and Health in the Portmarnock Hotel. The NuGOweek 2025 theme is “Molecular Understandings to Promote Healthy and Sustainable Diets” and will provide a unique platform for discussions on innovative approaches to nutrition and health. \nDate | September 22 – 25\, 2025\nLocation | Dublin\, Ireland\nMeet | Carmen Ludwig-Papst\, together with our distributor Labplan\nEvent page | NuGOweek
URL:https://biocrates.com/event/nugoweek-2025/
LOCATION:UCD Institute\, Dublin\, Dublin\, Ireland
ATTACH;FMTTYPE=image/webp:https://biocrates.com/wp-content/uploads/2025/08/09_NuGOweek_600x250.webp
END:VEVENT
END:VCALENDAR