BEGIN:VCALENDAR
VERSION:2.0
PRODID:-//biocrates life sciences gmbh - ECPv6.15.20//NONSGML v1.0//EN
CALSCALE:GREGORIAN
METHOD:PUBLISH
X-WR-CALNAME:biocrates life sciences gmbh
X-ORIGINAL-URL:https://biocrates.com
X-WR-CALDESC:Events for biocrates life sciences gmbh
REFRESH-INTERVAL;VALUE=DURATION:PT1H
X-Robots-Tag:noindex
X-PUBLISHED-TTL:PT1H
BEGIN:VTIMEZONE
TZID:Europe/Vilnius
BEGIN:DAYLIGHT
TZOFFSETFROM:+0200
TZOFFSETTO:+0300
TZNAME:EEST
DTSTART:20240331T010000
END:DAYLIGHT
BEGIN:STANDARD
TZOFFSETFROM:+0300
TZOFFSETTO:+0200
TZNAME:EET
DTSTART:20241027T010000
END:STANDARD
BEGIN:DAYLIGHT
TZOFFSETFROM:+0200
TZOFFSETTO:+0300
TZNAME:EEST
DTSTART:20250330T010000
END:DAYLIGHT
BEGIN:STANDARD
TZOFFSETFROM:+0300
TZOFFSETTO:+0200
TZNAME:EET
DTSTART:20251026T010000
END:STANDARD
BEGIN:DAYLIGHT
TZOFFSETFROM:+0200
TZOFFSETTO:+0300
TZNAME:EEST
DTSTART:20260329T010000
END:DAYLIGHT
BEGIN:STANDARD
TZOFFSETFROM:+0300
TZOFFSETTO:+0200
TZNAME:EET
DTSTART:20261025T010000
END:STANDARD
END:VTIMEZONE
BEGIN:VEVENT
DTSTART;VALUE=DATE:20250917
DTEND;VALUE=DATE:20250919
DTSTAMP:20260422T234312
CREATED:20250710T121827Z
LAST-MODIFIED:20250812T144841Z
UID:278799-1758067200-1758239999@biocrates.com
SUMMARY:Life Sciences Baltics 2025
DESCRIPTION:Participation\nbiocrates will attend Life Sciences Baltics 2025 in Vilnius\, Lithuania – a global hub for leading biotechnology\, pharmaceutical\, medical device\, and healthcare experts. Don’t miss the talk by Alice Limonciel on September 17\, 2025\, from 14:00 to 15:30\, as part of the session Multiomics – Key to Personalised Health and Research. \nDate | September 17 – 18\, 2025\nLocation | Vilnius\, Lithuania\nMeet | Alice Limonciel\nEvent page | lifesciencesbaltics.com/
URL:https://biocrates.com/event/life-sciences-baltics-2025/
LOCATION:LITEXPO\, Laisvės av. 5\, Vilnius\, Lithuania\, 04132\, Lithuania
ATTACH;FMTTYPE=image/webp:https://biocrates.com/wp-content/uploads/2025/07/09_Life-Sciences-Baltics_600x250.webp
END:VEVENT
END:VCALENDAR