BEGIN:VCALENDAR
VERSION:2.0
PRODID:-//biocrates life sciences gmbh - ECPv6.15.20//NONSGML v1.0//EN
CALSCALE:GREGORIAN
METHOD:PUBLISH
X-ORIGINAL-URL:https://biocrates.com
X-WR-CALDESC:Events for biocrates life sciences gmbh
REFRESH-INTERVAL;VALUE=DURATION:PT1H
X-Robots-Tag:noindex
X-PUBLISHED-TTL:PT1H
BEGIN:VTIMEZONE
TZID:Europe/Copenhagen
BEGIN:DAYLIGHT
TZOFFSETFROM:+0100
TZOFFSETTO:+0200
TZNAME:CEST
DTSTART:20240331T010000
END:DAYLIGHT
BEGIN:STANDARD
TZOFFSETFROM:+0200
TZOFFSETTO:+0100
TZNAME:CET
DTSTART:20241027T010000
END:STANDARD
BEGIN:DAYLIGHT
TZOFFSETFROM:+0100
TZOFFSETTO:+0200
TZNAME:CEST
DTSTART:20250330T010000
END:DAYLIGHT
BEGIN:STANDARD
TZOFFSETFROM:+0200
TZOFFSETTO:+0100
TZNAME:CET
DTSTART:20251026T010000
END:STANDARD
BEGIN:DAYLIGHT
TZOFFSETFROM:+0100
TZOFFSETTO:+0200
TZNAME:CEST
DTSTART:20260329T010000
END:DAYLIGHT
BEGIN:STANDARD
TZOFFSETFROM:+0200
TZOFFSETTO:+0100
TZNAME:CET
DTSTART:20261025T010000
END:STANDARD
END:VTIMEZONE
BEGIN:VTIMEZONE
TZID:America/Vancouver
BEGIN:DAYLIGHT
TZOFFSETFROM:-0800
TZOFFSETTO:-0700
TZNAME:PDT
DTSTART:20240310T100000
END:DAYLIGHT
BEGIN:STANDARD
TZOFFSETFROM:-0700
TZOFFSETTO:-0800
TZNAME:PST
DTSTART:20241103T090000
END:STANDARD
BEGIN:DAYLIGHT
TZOFFSETFROM:-0800
TZOFFSETTO:-0700
TZNAME:PDT
DTSTART:20250309T100000
END:DAYLIGHT
BEGIN:STANDARD
TZOFFSETFROM:-0700
TZOFFSETTO:-0800
TZNAME:PST
DTSTART:20251102T090000
END:STANDARD
BEGIN:DAYLIGHT
TZOFFSETFROM:-0800
TZOFFSETTO:-0700
TZNAME:PDT
DTSTART:20260308T100000
END:DAYLIGHT
BEGIN:STANDARD
TZOFFSETFROM:-0700
TZOFFSETTO:-0800
TZNAME:PST
DTSTART:20261101T090000
END:STANDARD
END:VTIMEZONE
BEGIN:VEVENT
DTSTART;VALUE=DATE:20250901
DTEND;VALUE=DATE:20250904
DTSTAMP:20260423T011608
CREATED:20250729T091052Z
LAST-MODIFIED:20250729T091052Z
UID:278891-1756684800-1756943999@biocrates.com
SUMMARY:Nordic MSP 2025
DESCRIPTION:Sponsorship\nThe Nordic Conference in Mass Spectrometry and Proteomics 2025 is taking place in Odense\, Denmark\, bringing together international mass spectrometry leaders to present on advances in fundamentals\, environmental\, pharma\, bioimaging\, metabolomics and proteomics. \nDate | September 1 – 3\, 2025\nLocation | Odense\, Denmark\nMeet | Carmen Ludwig-Papst\, together with our distributor KemEnTec\nEvent page | https://www.nordicmsp2025.com/
URL:https://biocrates.com/event/nordic-msp-2025/
LOCATION:Odeon\, Odeons Kvarter 1\, Odense\, Denmark\, 5000\, Denmark
ATTACH;FMTTYPE=image/webp:https://biocrates.com/wp-content/uploads/2025/07/09_Nordic-MSP_600x250.webp
END:VEVENT
BEGIN:VEVENT
DTSTART;VALUE=DATE:20250902
DTEND;VALUE=DATE:20250906
DTSTAMP:20260423T011608
CREATED:20250702T102129Z
LAST-MODIFIED:20250730T074954Z
UID:278680-1756771200-1757116799@biocrates.com
SUMMARY:MANA 2025 conference
DESCRIPTION:Participation\nMeet biocrates at MANA  2025 Conference in Banff\, Canada\, bringing together researchers to discuss a wide range of metabolomics topics and foster collaboration within the scientific community. \nDate | September 2 – 5\, 2025\nLocation | Banff\, Canada\nMeet | Stefan Ledinger\nEvent page | www.metabolomicsna.org/events/mana2025
URL:https://biocrates.com/event/mana-2025-conference/
LOCATION:Banff Centre\, 107 Tunnel Mountain Dr\, Banff\, Canada\, AB T1L 1H5\, Canada
ATTACH;FMTTYPE=image/webp:https://biocrates.com/wp-content/uploads/2025/07/09_MANA_600x250.webp
END:VEVENT
END:VCALENDAR