BEGIN:VCALENDAR
VERSION:2.0
PRODID:-//biocrates life sciences gmbh - ECPv6.15.20//NONSGML v1.0//EN
CALSCALE:GREGORIAN
METHOD:PUBLISH
X-WR-CALNAME:biocrates life sciences gmbh
X-ORIGINAL-URL:https://biocrates.com
X-WR-CALDESC:Events for biocrates life sciences gmbh
REFRESH-INTERVAL;VALUE=DURATION:PT1H
X-Robots-Tag:noindex
X-PUBLISHED-TTL:PT1H
BEGIN:VTIMEZONE
TZID:Europe/Vienna
BEGIN:DAYLIGHT
TZOFFSETFROM:+0100
TZOFFSETTO:+0200
TZNAME:CEST
DTSTART:20240331T010000
END:DAYLIGHT
BEGIN:STANDARD
TZOFFSETFROM:+0200
TZOFFSETTO:+0100
TZNAME:CET
DTSTART:20241027T010000
END:STANDARD
BEGIN:DAYLIGHT
TZOFFSETFROM:+0100
TZOFFSETTO:+0200
TZNAME:CEST
DTSTART:20250330T010000
END:DAYLIGHT
BEGIN:STANDARD
TZOFFSETFROM:+0200
TZOFFSETTO:+0100
TZNAME:CET
DTSTART:20251026T010000
END:STANDARD
BEGIN:DAYLIGHT
TZOFFSETFROM:+0100
TZOFFSETTO:+0200
TZNAME:CEST
DTSTART:20260329T010000
END:DAYLIGHT
BEGIN:STANDARD
TZOFFSETFROM:+0200
TZOFFSETTO:+0100
TZNAME:CET
DTSTART:20261025T010000
END:STANDARD
END:VTIMEZONE
BEGIN:VEVENT
DTSTART;VALUE=DATE:20250705
DTEND;VALUE=DATE:20250706
DTSTAMP:20260423T023843
CREATED:20250625T101320Z
LAST-MODIFIED:20250625T101320Z
UID:278632-1751673600-1751759999@biocrates.com
SUMMARY:First Scientific day of the Microbiota Study Group
DESCRIPTION:Sponsorship\nSave the date for the First Scientific day of the Microbiota Study Group taking place in Lyon\, France.\nIn this event we and our parter Proteigene will bring together the metabolomics community with a special focus on healthcare-related metabolomics. \nDate | July 05\, 2025\nLocation | Paris | France\nMeet | Sarazin Benoît\, Carlos Malpica\nEvent page | https://17-js-rfmf-2025.sciencesconf.org/
URL:https://biocrates.com/event/first-scientific-day-of-the-microbiota-study-group/
LOCATION:Hospices Civils de Lyon\, 3 Quai des Célestins\, Lyon\, France
ATTACH;FMTTYPE=image/webp:https://biocrates.com/wp-content/uploads/2025/06/07_Microbiota-Study-group_600x250.webp
END:VEVENT
END:VCALENDAR