BEGIN:VCALENDAR
VERSION:2.0
PRODID:-//biocrates life sciences gmbh - ECPv6.15.20//NONSGML v1.0//EN
CALSCALE:GREGORIAN
METHOD:PUBLISH
X-ORIGINAL-URL:https://biocrates.com
X-WR-CALDESC:Events for biocrates life sciences gmbh
REFRESH-INTERVAL;VALUE=DURATION:PT1H
X-Robots-Tag:noindex
X-PUBLISHED-TTL:PT1H
BEGIN:VTIMEZONE
TZID:Europe/Vienna
BEGIN:DAYLIGHT
TZOFFSETFROM:+0100
TZOFFSETTO:+0200
TZNAME:CEST
DTSTART:20240331T010000
END:DAYLIGHT
BEGIN:STANDARD
TZOFFSETFROM:+0200
TZOFFSETTO:+0100
TZNAME:CET
DTSTART:20241027T010000
END:STANDARD
BEGIN:DAYLIGHT
TZOFFSETFROM:+0100
TZOFFSETTO:+0200
TZNAME:CEST
DTSTART:20250330T010000
END:DAYLIGHT
BEGIN:STANDARD
TZOFFSETFROM:+0200
TZOFFSETTO:+0100
TZNAME:CET
DTSTART:20251026T010000
END:STANDARD
BEGIN:DAYLIGHT
TZOFFSETFROM:+0100
TZOFFSETTO:+0200
TZNAME:CEST
DTSTART:20260329T010000
END:DAYLIGHT
BEGIN:STANDARD
TZOFFSETFROM:+0200
TZOFFSETTO:+0100
TZNAME:CET
DTSTART:20261025T010000
END:STANDARD
END:VTIMEZONE
BEGIN:VEVENT
DTSTART;TZID=Europe/Vienna:20250617T090000
DTEND;TZID=Europe/Vienna:20250617T103000
DTSTAMP:20260423T041929
CREATED:20250514T120253Z
LAST-MODIFIED:20250610T101901Z
UID:278112-1750150800-1750156200@biocrates.com
SUMMARY:Powering the next generation of precision medicine
DESCRIPTION:Sponsorship\nQuantitative metabolomics | Powering the next generation of precision medicine\nJoin us for an insightful webinar exploring how quantitative metabolomics is advancing precision medicine. Discover how this powerful approach enables large-scale studies in population health\, and learn how it intersects with microbiome research to reveal the host’s metabolic response. Our experts will share real-world applications across diverse sample types\, showcasing how microbial metabolites and host-microbiome interactions can be studied using targeted metabolomics. \nDate | June 17\, 2025 | 03:00 – 04:30 pm MYT | 09:00 – 10:30 am CET\nLocation | Virtual event on ZOOM\nSpeaker | Carmen Ludwig-Papst\, Alice Limonciel Ph.D.\, Manuel Kratzke\nRegister | Register for this free event
URL:https://biocrates.com/event/metabolomics-transforming-precision-medicine-and-cancer-therapy-2/
LOCATION:Virtual
ATTACH;FMTTYPE=image/webp:https://biocrates.com/wp-content/uploads/2025/05/Malaysien_events-600x250px.webp
END:VEVENT
END:VCALENDAR