BEGIN:VCALENDAR
VERSION:2.0
PRODID:-//biocrates life sciences gmbh - ECPv6.15.20//NONSGML v1.0//EN
CALSCALE:GREGORIAN
METHOD:PUBLISH
X-WR-CALNAME:biocrates life sciences gmbh
X-ORIGINAL-URL:https://biocrates.com
X-WR-CALDESC:Events for biocrates life sciences gmbh
REFRESH-INTERVAL;VALUE=DURATION:PT1H
X-Robots-Tag:noindex
X-PUBLISHED-TTL:PT1H
BEGIN:VTIMEZONE
TZID:Europe/Vienna
BEGIN:DAYLIGHT
TZOFFSETFROM:+0100
TZOFFSETTO:+0200
TZNAME:CEST
DTSTART:20240331T010000
END:DAYLIGHT
BEGIN:STANDARD
TZOFFSETFROM:+0200
TZOFFSETTO:+0100
TZNAME:CET
DTSTART:20241027T010000
END:STANDARD
BEGIN:DAYLIGHT
TZOFFSETFROM:+0100
TZOFFSETTO:+0200
TZNAME:CEST
DTSTART:20250330T010000
END:DAYLIGHT
BEGIN:STANDARD
TZOFFSETFROM:+0200
TZOFFSETTO:+0100
TZNAME:CET
DTSTART:20251026T010000
END:STANDARD
BEGIN:DAYLIGHT
TZOFFSETFROM:+0100
TZOFFSETTO:+0200
TZNAME:CEST
DTSTART:20260329T010000
END:DAYLIGHT
BEGIN:STANDARD
TZOFFSETFROM:+0200
TZOFFSETTO:+0100
TZNAME:CET
DTSTART:20261025T010000
END:STANDARD
END:VTIMEZONE
BEGIN:VEVENT
DTSTART;VALUE=DATE:20250601
DTEND;VALUE=DATE:20250606
DTSTAMP:20260423T041859
CREATED:20241211T103849Z
LAST-MODIFIED:20250528T081858Z
UID:275160-1748736000-1749167999@biocrates.com
SUMMARY:ASMS 2025
DESCRIPTION:Sponsorship\nMark your calendar for ASMS 2025\, the 73rd Conference on Mass Spectrometry and Allied Topics taking place in Baltimore\, Maryland. \nDate: June 01 – 05\, 2025Booth: #213Location: Baltimore Convention Center\, Baltimore\, Marylandbiocrates at ASMS | Our highlights\, events\, posters and more.Event page | Annual Conference Homepage \nbiocrates breakfast seminar\nWe invite you to join our breakfast seminar at ASMS\, where we will officially launch our new MxP® Quant 1000 kit. Be part of it! \nDate: June 03\, 2025 |Time: 07:00 am ETLocation: Baltimore Convention Center\, Room 338Registration: https://biocrates.com/2025-asms-breakfast-seminar/ \n 
URL:https://biocrates.com/event/asms-2025/
LOCATION:Baltimore Convention Center  (BCC)\, 1 West Pratt St\, Baltimore\, 21201\, United States
ATTACH;FMTTYPE=image/webp:https://biocrates.com/wp-content/uploads/2024/12/06_ASMS_2025_upcoming-events_600x250.webp
END:VEVENT
END:VCALENDAR