BEGIN:VCALENDAR
VERSION:2.0
PRODID:-//biocrates life sciences gmbh - ECPv6.15.20//NONSGML v1.0//EN
CALSCALE:GREGORIAN
METHOD:PUBLISH
X-WR-CALNAME:biocrates life sciences gmbh
X-ORIGINAL-URL:https://biocrates.com
X-WR-CALDESC:Events for biocrates life sciences gmbh
REFRESH-INTERVAL;VALUE=DURATION:PT1H
X-Robots-Tag:noindex
X-PUBLISHED-TTL:PT1H
BEGIN:VTIMEZONE
TZID:Europe/Vienna
BEGIN:DAYLIGHT
TZOFFSETFROM:+0100
TZOFFSETTO:+0200
TZNAME:CEST
DTSTART:20240331T010000
END:DAYLIGHT
BEGIN:STANDARD
TZOFFSETFROM:+0200
TZOFFSETTO:+0100
TZNAME:CET
DTSTART:20241027T010000
END:STANDARD
BEGIN:DAYLIGHT
TZOFFSETFROM:+0100
TZOFFSETTO:+0200
TZNAME:CEST
DTSTART:20250330T010000
END:DAYLIGHT
BEGIN:STANDARD
TZOFFSETFROM:+0200
TZOFFSETTO:+0100
TZNAME:CET
DTSTART:20251026T010000
END:STANDARD
BEGIN:DAYLIGHT
TZOFFSETFROM:+0100
TZOFFSETTO:+0200
TZNAME:CEST
DTSTART:20260329T010000
END:DAYLIGHT
BEGIN:STANDARD
TZOFFSETFROM:+0200
TZOFFSETTO:+0100
TZNAME:CET
DTSTART:20261025T010000
END:STANDARD
END:VTIMEZONE
BEGIN:VEVENT
DTSTART;VALUE=DATE:20250410
DTEND;VALUE=DATE:20250412
DTSTAMP:20260423T074003
CREATED:20250115T110854Z
LAST-MODIFIED:20250115T110854Z
UID:275909-1744243200-1744415999@biocrates.com
SUMMARY:Translational Microbiome Conference
DESCRIPTION:Participation\n10th Annual Translational Microbiome Conference \nDate | April 10 – 11\, 2025\nLocation | Boston\, MA USA\nMeet | Dr. Fadi Abdi\nMore information and registration | 2025 Microbiome Conference
URL:https://biocrates.com/event/translational-microbiome-conference-2/
LOCATION:Revere Hotel Boston Common\, 200 Stuart Street\, Boston\, MA\, 02116\, United States
ATTACH;FMTTYPE=image/webp:https://biocrates.com/wp-content/uploads/2025/01/04_Translational-Microbiome-Conference_600x250.webp
END:VEVENT
END:VCALENDAR