BEGIN:VCALENDAR
VERSION:2.0
PRODID:-//biocrates life sciences gmbh - ECPv6.15.20//NONSGML v1.0//EN
CALSCALE:GREGORIAN
METHOD:PUBLISH
X-ORIGINAL-URL:https://biocrates.com
X-WR-CALDESC:Events for biocrates life sciences gmbh
REFRESH-INTERVAL;VALUE=DURATION:PT1H
X-Robots-Tag:noindex
X-PUBLISHED-TTL:PT1H
BEGIN:VTIMEZONE
TZID:Asia/Seoul
BEGIN:STANDARD
TZOFFSETFROM:+0900
TZOFFSETTO:+0900
TZNAME:KST
DTSTART:20240101T000000
END:STANDARD
END:VTIMEZONE
BEGIN:VEVENT
DTSTART;VALUE=DATE:20250402
DTEND;VALUE=DATE:20250405
DTSTAMP:20260423T074300
CREATED:20250324T140844Z
LAST-MODIFIED:20250325T104219Z
UID:276885-1743552000-1743811199@biocrates.com
SUMMARY:Korea Metabolomics society
DESCRIPTION:Sponsorship\nMark your calendar for this year’s “Korea Metabolomics Society 2025” taking place in Jeju\, Korea. Meet us at the Omics-both number G6 and find out more about the latest advances in metabolomics and lipidomics. \nDate | April 02 – 04\, 2025\nLocation | Jeju\, Phoenix Island | Korea\nMeet | Seongyul (Bill) Lim\, Omics Biotech\nEvent page | Korea Metabolomics Society
URL:https://biocrates.com/event/https-www-komets-or-kr/
LOCATION:107 SeopjiKoji-ro\, Seongsan-eup\, Seogwipo-si\, Jeju\, Korea
ATTACH;FMTTYPE=image/webp:https://biocrates.com/wp-content/uploads/2025/03/07_Korea-Metabolomics-society-2025_600x250.webp
END:VEVENT
END:VCALENDAR