BEGIN:VCALENDAR
VERSION:2.0
PRODID:-//biocrates life sciences gmbh - ECPv6.15.20//NONSGML v1.0//EN
CALSCALE:GREGORIAN
METHOD:PUBLISH
X-ORIGINAL-URL:https://biocrates.com
X-WR-CALDESC:Events for biocrates life sciences gmbh
REFRESH-INTERVAL;VALUE=DURATION:PT1H
X-Robots-Tag:noindex
X-PUBLISHED-TTL:PT1H
BEGIN:VTIMEZONE
TZID:Europe/Vienna
BEGIN:DAYLIGHT
TZOFFSETFROM:+0100
TZOFFSETTO:+0200
TZNAME:CEST
DTSTART:20240331T010000
END:DAYLIGHT
BEGIN:STANDARD
TZOFFSETFROM:+0200
TZOFFSETTO:+0100
TZNAME:CET
DTSTART:20241027T010000
END:STANDARD
BEGIN:DAYLIGHT
TZOFFSETFROM:+0100
TZOFFSETTO:+0200
TZNAME:CEST
DTSTART:20250330T010000
END:DAYLIGHT
BEGIN:STANDARD
TZOFFSETFROM:+0200
TZOFFSETTO:+0100
TZNAME:CET
DTSTART:20251026T010000
END:STANDARD
BEGIN:DAYLIGHT
TZOFFSETFROM:+0100
TZOFFSETTO:+0200
TZNAME:CEST
DTSTART:20260329T010000
END:DAYLIGHT
BEGIN:STANDARD
TZOFFSETFROM:+0200
TZOFFSETTO:+0100
TZNAME:CET
DTSTART:20261025T010000
END:STANDARD
END:VTIMEZONE
BEGIN:VEVENT
DTSTART;VALUE=DATE:20250315
DTEND;VALUE=DATE:20250317
DTSTAMP:20260423T092444
CREATED:20250115T105940Z
LAST-MODIFIED:20250115T105940Z
UID:275905-1741996800-1742169599@biocrates.com
SUMMARY:Gut Microbiota for Health
DESCRIPTION:Participation\nGut Microbiota for Health World Summit | Microbiome milieu: Diet\, drugs and environment \nDate | March 15 – 16\, 2025\nLocation | Washington\, DC\nMeet | Dr. Fadi Abdi\nMore information and registration | Gut Microbiota for Health World Summit 2025
URL:https://biocrates.com/event/gut-microbiota-for-health-2/
LOCATION:Washington
ATTACH;FMTTYPE=image/webp:https://biocrates.com/wp-content/uploads/2025/01/03_Gut-microbiota-for-health_600x250.webp
END:VEVENT
END:VCALENDAR