BEGIN:VCALENDAR
VERSION:2.0
PRODID:-//biocrates life sciences gmbh - ECPv6.15.20//NONSGML v1.0//EN
CALSCALE:GREGORIAN
METHOD:PUBLISH
X-ORIGINAL-URL:https://biocrates.com
X-WR-CALDESC:Events for biocrates life sciences gmbh
REFRESH-INTERVAL;VALUE=DURATION:PT1H
X-Robots-Tag:noindex
X-PUBLISHED-TTL:PT1H
BEGIN:VTIMEZONE
TZID:Europe/Vienna
BEGIN:DAYLIGHT
TZOFFSETFROM:+0100
TZOFFSETTO:+0200
TZNAME:CEST
DTSTART:20240331T010000
END:DAYLIGHT
BEGIN:STANDARD
TZOFFSETFROM:+0200
TZOFFSETTO:+0100
TZNAME:CET
DTSTART:20241027T010000
END:STANDARD
BEGIN:DAYLIGHT
TZOFFSETFROM:+0100
TZOFFSETTO:+0200
TZNAME:CEST
DTSTART:20250330T010000
END:DAYLIGHT
BEGIN:STANDARD
TZOFFSETFROM:+0200
TZOFFSETTO:+0100
TZNAME:CET
DTSTART:20251026T010000
END:STANDARD
BEGIN:DAYLIGHT
TZOFFSETFROM:+0100
TZOFFSETTO:+0200
TZNAME:CEST
DTSTART:20260329T010000
END:DAYLIGHT
BEGIN:STANDARD
TZOFFSETFROM:+0200
TZOFFSETTO:+0100
TZNAME:CET
DTSTART:20261025T010000
END:STANDARD
END:VTIMEZONE
BEGIN:VEVENT
DTSTART;VALUE=DATE:20250224
DTEND;VALUE=DATE:20250227
DTSTAMP:20260423T092519
CREATED:20250120T143738Z
LAST-MODIFIED:20250128T081648Z
UID:276022-1740355200-1740614399@biocrates.com
SUMMARY:Int. Conference on Metabolomics and Lipidomics
DESCRIPTION:Participation\nInternational Conference on Metabolomics and Lipidomics 2025 \nDate | February 24 – 26\, 2025\nLocation | Victor Menezes Convention Center\, IIT Bombay\, Mumbai\, Maharashtra\, India\nMeet | Dr. Bijon Chatterji\nMore information and registration | International conference on metabolomics and lipidomics 2025
URL:https://biocrates.com/event/international-conference-on-metabolomics-and-lipidomics-2025/
LOCATION:Indian Institute of Technology (IIT) Bombay\, Mumbai\, Maharashtra\, 400076\, India
ATTACH;FMTTYPE=image/webp:https://biocrates.com/wp-content/uploads/2025/01/02_International-Conference-on-Metabolomics-and-Lipidomics.webp
END:VEVENT
END:VCALENDAR