BEGIN:VCALENDAR
VERSION:2.0
PRODID:-//biocrates life sciences gmbh - ECPv6.15.20//NONSGML v1.0//EN
CALSCALE:GREGORIAN
METHOD:PUBLISH
X-WR-CALNAME:biocrates life sciences gmbh
X-ORIGINAL-URL:https://biocrates.com
X-WR-CALDESC:Events for biocrates life sciences gmbh
REFRESH-INTERVAL;VALUE=DURATION:PT1H
X-Robots-Tag:noindex
X-PUBLISHED-TTL:PT1H
BEGIN:VTIMEZONE
TZID:Europe/Vienna
BEGIN:DAYLIGHT
TZOFFSETFROM:+0100
TZOFFSETTO:+0200
TZNAME:CEST
DTSTART:20240331T010000
END:DAYLIGHT
BEGIN:STANDARD
TZOFFSETFROM:+0200
TZOFFSETTO:+0100
TZNAME:CET
DTSTART:20241027T010000
END:STANDARD
BEGIN:DAYLIGHT
TZOFFSETFROM:+0100
TZOFFSETTO:+0200
TZNAME:CEST
DTSTART:20250330T010000
END:DAYLIGHT
BEGIN:STANDARD
TZOFFSETFROM:+0200
TZOFFSETTO:+0100
TZNAME:CET
DTSTART:20251026T010000
END:STANDARD
BEGIN:DAYLIGHT
TZOFFSETFROM:+0100
TZOFFSETTO:+0200
TZNAME:CEST
DTSTART:20260329T010000
END:DAYLIGHT
BEGIN:STANDARD
TZOFFSETFROM:+0200
TZOFFSETTO:+0100
TZNAME:CET
DTSTART:20261025T010000
END:STANDARD
END:VTIMEZONE
BEGIN:VTIMEZONE
TZID:America/Chicago
BEGIN:DAYLIGHT
TZOFFSETFROM:-0600
TZOFFSETTO:-0500
TZNAME:CDT
DTSTART:20240310T080000
END:DAYLIGHT
BEGIN:STANDARD
TZOFFSETFROM:-0500
TZOFFSETTO:-0600
TZNAME:CST
DTSTART:20241103T070000
END:STANDARD
BEGIN:DAYLIGHT
TZOFFSETFROM:-0600
TZOFFSETTO:-0500
TZNAME:CDT
DTSTART:20250309T080000
END:DAYLIGHT
BEGIN:STANDARD
TZOFFSETFROM:-0500
TZOFFSETTO:-0600
TZNAME:CST
DTSTART:20251102T070000
END:STANDARD
BEGIN:DAYLIGHT
TZOFFSETFROM:-0600
TZOFFSETTO:-0500
TZNAME:CDT
DTSTART:20260308T080000
END:DAYLIGHT
BEGIN:STANDARD
TZOFFSETFROM:-0500
TZOFFSETTO:-0600
TZNAME:CST
DTSTART:20261101T070000
END:STANDARD
END:VTIMEZONE
BEGIN:VEVENT
DTSTART;VALUE=DATE:20250211
DTEND;VALUE=DATE:20250213
DTSTAMP:20260423T105614
CREATED:20250115T094227Z
LAST-MODIFIED:20250128T081950Z
UID:275887-1739232000-1739404799@biocrates.com
SUMMARY:Mind\, Mood and Microbes
DESCRIPTION:Participation\nMind\, Mood and Microbes | The international conference on microbiota-gut-brain axis \nDate | February 11 – 12\, 2025\nLocation | Amsterdam\nMeet | Dr. Alice Limonciel\,\nMore information and registration | Mind\, Mood & Microbes
URL:https://biocrates.com/event/mind-mood-and-microbes/
LOCATION:Kit Royal Tropical Institute\, Mauritskade 63\, Amsterdam\, 1092
ATTACH;FMTTYPE=image/webp:https://biocrates.com/wp-content/uploads/2025/01/02_Mind-mood-and-microbes_600x250.webp
END:VEVENT
BEGIN:VEVENT
DTSTART;TZID=America/Chicago:20250211T120000
DTEND;TZID=America/Chicago:20250211T130000
DTSTAMP:20260423T105614
CREATED:20250107T091841Z
LAST-MODIFIED:20250107T101411Z
UID:275382-1739275200-1739278800@biocrates.com
SUMMARY:Understanding complex chronic diseases
DESCRIPTION:Lunch and learn event\nUnderstanding complex chronic diseases | The microbiome-metabolism connection \nDate | February 11\, 2025\nTime | 12:00 – 01:00 pm CST\nLocation | University of Illinois\, Chicago\, Molecular Biology Research Building\, Room 1152\nMeet | Marissa Jones\, Ph.D.\nMore information and registration | https://biocrates.com/understanding-complex-chronic-diseases/
URL:https://biocrates.com/event/understanding-complex-chronic-diseases-the-microbiome-metabolism-connection/
ATTACH;FMTTYPE=image/webp:https://biocrates.com/wp-content/uploads/2025/01/LL_Chicago_internal-upcoming-events-600x250px.webp
END:VEVENT
END:VCALENDAR