BEGIN:VCALENDAR
VERSION:2.0
PRODID:-//biocrates life sciences gmbh - ECPv6.15.20//NONSGML v1.0//EN
CALSCALE:GREGORIAN
METHOD:PUBLISH
X-WR-CALNAME:biocrates life sciences gmbh
X-ORIGINAL-URL:https://biocrates.com
X-WR-CALDESC:Events for biocrates life sciences gmbh
REFRESH-INTERVAL;VALUE=DURATION:PT1H
X-Robots-Tag:noindex
X-PUBLISHED-TTL:PT1H
BEGIN:VTIMEZONE
TZID:Europe/Vienna
BEGIN:DAYLIGHT
TZOFFSETFROM:+0100
TZOFFSETTO:+0200
TZNAME:CEST
DTSTART:20240331T010000
END:DAYLIGHT
BEGIN:STANDARD
TZOFFSETFROM:+0200
TZOFFSETTO:+0100
TZNAME:CET
DTSTART:20241027T010000
END:STANDARD
BEGIN:DAYLIGHT
TZOFFSETFROM:+0100
TZOFFSETTO:+0200
TZNAME:CEST
DTSTART:20250330T010000
END:DAYLIGHT
BEGIN:STANDARD
TZOFFSETFROM:+0200
TZOFFSETTO:+0100
TZNAME:CET
DTSTART:20251026T010000
END:STANDARD
BEGIN:DAYLIGHT
TZOFFSETFROM:+0100
TZOFFSETTO:+0200
TZNAME:CEST
DTSTART:20260329T010000
END:DAYLIGHT
BEGIN:STANDARD
TZOFFSETFROM:+0200
TZOFFSETTO:+0100
TZNAME:CET
DTSTART:20261025T010000
END:STANDARD
END:VTIMEZONE
BEGIN:VEVENT
DTSTART;VALUE=DATE:20250202
DTEND;VALUE=DATE:20250208
DTSTAMP:20260423T105616
CREATED:20250120T143647Z
LAST-MODIFIED:20250120T152718Z
UID:276019-1738454400-1738972799@biocrates.com
SUMMARY:Gordon Research Conference 2025
DESCRIPTION:Participation\nGordon research conference human Mx (CA) \nDate | February 2 – 7\, 2025\nLocation | Ventura\, California\, USA\nMeet | Dr. Fadi Abdi\nMore information and registration | 2025 Metabolomics and human health
URL:https://biocrates.com/event/metabolomics-human-health/
LOCATION:Ventura beach marriott\, Harbor Boulevard\, Ventura\, CA\, 2055\, United States
ATTACH;FMTTYPE=image/jpeg:https://biocrates.com/wp-content/uploads/2025/01/mx-2025.jpg
END:VEVENT
END:VCALENDAR