BEGIN:VCALENDAR
VERSION:2.0
PRODID:-//biocrates life sciences gmbh - ECPv6.15.20//NONSGML v1.0//EN
CALSCALE:GREGORIAN
METHOD:PUBLISH
X-WR-CALNAME:biocrates life sciences gmbh
X-ORIGINAL-URL:https://biocrates.com
X-WR-CALDESC:Events for biocrates life sciences gmbh
REFRESH-INTERVAL;VALUE=DURATION:PT1H
X-Robots-Tag:noindex
X-PUBLISHED-TTL:PT1H
BEGIN:VTIMEZONE
TZID:Europe/Vienna
BEGIN:DAYLIGHT
TZOFFSETFROM:+0100
TZOFFSETTO:+0200
TZNAME:CEST
DTSTART:20230326T010000
END:DAYLIGHT
BEGIN:STANDARD
TZOFFSETFROM:+0200
TZOFFSETTO:+0100
TZNAME:CET
DTSTART:20231029T010000
END:STANDARD
BEGIN:DAYLIGHT
TZOFFSETFROM:+0100
TZOFFSETTO:+0200
TZNAME:CEST
DTSTART:20240331T010000
END:DAYLIGHT
BEGIN:STANDARD
TZOFFSETFROM:+0200
TZOFFSETTO:+0100
TZNAME:CET
DTSTART:20241027T010000
END:STANDARD
BEGIN:DAYLIGHT
TZOFFSETFROM:+0100
TZOFFSETTO:+0200
TZNAME:CEST
DTSTART:20250330T010000
END:DAYLIGHT
BEGIN:STANDARD
TZOFFSETFROM:+0200
TZOFFSETTO:+0100
TZNAME:CET
DTSTART:20251026T010000
END:STANDARD
END:VTIMEZONE
BEGIN:VEVENT
DTSTART;TZID=Europe/Vienna:20241025T113000
DTEND;TZID=Europe/Vienna:20241025T130000
DTSTAMP:20260423T182533
CREATED:20241010T102750Z
LAST-MODIFIED:20241010T102750Z
UID:273212-1729855800-1729861200@biocrates.com
SUMMARY:Metabolomics in gut microbiome and nutrition
DESCRIPTION:Virtual event\nJoin our upcoming webinar on metabolomics in gut microbiome and nutrition\, organized by biocrates and AKSA. Our expert speakers\, Prof. Dr. Josep Rubert and Alice Limonciel\, will present groundbreaking findings on how gut microbiota influence host metabolism. Discover the latest research on microbial metabolites\, their role in health and disease\, and how personalized nutrition strategies are evolving. Gain insights into how these discoveries are transforming our understanding of the gut-nutrition connection! \nDate | October 25\, 2024\nTime | 11:30 am-01:00 pm CET\nVirtual on ZOOM\nMeet | Josep Rubert\, Alice Limonciel\, Bijon Chatterji\, Martijn Scholte Albers\nProgram & Registration | https://biocrates.com/nutrition-gutmicrobiome-webinar/
URL:https://biocrates.com/event/metabolomics-in-gut-microbiome-and-nutrition/
LOCATION:Virtual
ATTACH;FMTTYPE=image/jpeg:https://biocrates.com/wp-content/uploads/2024/10/upcomingevents_600x250px.jpg
END:VEVENT
END:VCALENDAR