BEGIN:VCALENDAR
VERSION:2.0
PRODID:-//biocrates life sciences gmbh - ECPv6.15.20//NONSGML v1.0//EN
CALSCALE:GREGORIAN
METHOD:PUBLISH
X-ORIGINAL-URL:https://biocrates.com
X-WR-CALDESC:Events for biocrates life sciences gmbh
REFRESH-INTERVAL;VALUE=DURATION:PT1H
X-Robots-Tag:noindex
X-PUBLISHED-TTL:PT1H
BEGIN:VTIMEZONE
TZID:Europe/Vienna
BEGIN:DAYLIGHT
TZOFFSETFROM:+0100
TZOFFSETTO:+0200
TZNAME:CEST
DTSTART:20230326T010000
END:DAYLIGHT
BEGIN:STANDARD
TZOFFSETFROM:+0200
TZOFFSETTO:+0100
TZNAME:CET
DTSTART:20231029T010000
END:STANDARD
BEGIN:DAYLIGHT
TZOFFSETFROM:+0100
TZOFFSETTO:+0200
TZNAME:CEST
DTSTART:20240331T010000
END:DAYLIGHT
BEGIN:STANDARD
TZOFFSETFROM:+0200
TZOFFSETTO:+0100
TZNAME:CET
DTSTART:20241027T010000
END:STANDARD
BEGIN:DAYLIGHT
TZOFFSETFROM:+0100
TZOFFSETTO:+0200
TZNAME:CEST
DTSTART:20250330T010000
END:DAYLIGHT
BEGIN:STANDARD
TZOFFSETFROM:+0200
TZOFFSETTO:+0100
TZNAME:CET
DTSTART:20251026T010000
END:STANDARD
END:VTIMEZONE
BEGIN:VEVENT
DTSTART;TZID=Europe/Vienna:20241017T103000
DTEND;TZID=Europe/Vienna:20241017T103000
DTSTAMP:20260423T182714
CREATED:20240918T085449Z
LAST-MODIFIED:20240918T085449Z
UID:272942-1729161000-1729161000@biocrates.com
SUMMARY:From zero to metabolomics hero 2024
DESCRIPTION:Join our upcoming webinar to discover how the biocrates MxP® Quant 500 XL kit drives advancements in clinical\, basic\, and epidemiological research. Learn how our joint efforts with Agilent integrate the 6495D LC/TQ platform\, boosting the analysis of key metabolites with enhanced sensitivity and faster processing. \nParticipation\nDate | October 17\, 2024 | 10:30am (CET) Virtual on ZOOM\nMeet | Bijon Chatterji\nProgram | https://biocrates.com/metabolomics-hero-2024/\nRegister | Registration
URL:https://biocrates.com/event/from-zero-to-metabolomics-hero-2024/
LOCATION:Virtual
ATTACH;FMTTYPE=image/jpeg:https://biocrates.com/wp-content/uploads/2024/09/Banner_AgilentWebinar_600x250.jpg
END:VEVENT
END:VCALENDAR