BEGIN:VCALENDAR
VERSION:2.0
PRODID:-//biocrates life sciences gmbh - ECPv6.15.20//NONSGML v1.0//EN
CALSCALE:GREGORIAN
METHOD:PUBLISH
X-WR-CALNAME:biocrates life sciences gmbh
X-ORIGINAL-URL:https://biocrates.com
X-WR-CALDESC:Events for biocrates life sciences gmbh
REFRESH-INTERVAL;VALUE=DURATION:PT1H
X-Robots-Tag:noindex
X-PUBLISHED-TTL:PT1H
BEGIN:VTIMEZONE
TZID:Europe/Vienna
BEGIN:DAYLIGHT
TZOFFSETFROM:+0100
TZOFFSETTO:+0200
TZNAME:CEST
DTSTART:20230326T010000
END:DAYLIGHT
BEGIN:STANDARD
TZOFFSETFROM:+0200
TZOFFSETTO:+0100
TZNAME:CET
DTSTART:20231029T010000
END:STANDARD
BEGIN:DAYLIGHT
TZOFFSETFROM:+0100
TZOFFSETTO:+0200
TZNAME:CEST
DTSTART:20240331T010000
END:DAYLIGHT
BEGIN:STANDARD
TZOFFSETFROM:+0200
TZOFFSETTO:+0100
TZNAME:CET
DTSTART:20241027T010000
END:STANDARD
BEGIN:DAYLIGHT
TZOFFSETFROM:+0100
TZOFFSETTO:+0200
TZNAME:CEST
DTSTART:20250330T010000
END:DAYLIGHT
BEGIN:STANDARD
TZOFFSETFROM:+0200
TZOFFSETTO:+0100
TZNAME:CET
DTSTART:20251026T010000
END:STANDARD
END:VTIMEZONE
BEGIN:VEVENT
DTSTART;TZID=Europe/Vienna:20241007T000000
DTEND;TZID=Europe/Vienna:20241008T235959
DTSTAMP:20260423T182502
CREATED:20240917T144417Z
LAST-MODIFIED:20240917T144417Z
UID:272891-1728259200-1728431999@biocrates.com
SUMMARY:Munich Metabolomics Meeting 2024
DESCRIPTION:Sponsorship by biocrates\nJoin us at the Munich Metabolomics Meeting 2024. It aims to connect metabolomics researchers in the Munich area and beyond and provide a forum to demonstrate the broad spectrum of metabolomics research\, share our experiences and discuss current challenges. \nWe warmly invite you to join us for a Get-Together with drinks and pretzels on Monday\, October 7\, at 6:00 pm. We look forward to your presence! \nDate | October 07-08\, 2024\nLocation | LMU Klinikum Großhadern\, Munich\, Germany\nMeet | Stefan Ledinger\nProgram | https://www.munichmetabolomics.com/
URL:https://biocrates.com/event/munich-metabolomics-meeting-2024/
LOCATION:Klinikum Großhadern\, Marchioninistraße 15\, Munich\, Germany
ATTACH;FMTTYPE=image/webp:https://biocrates.com/wp-content/uploads/2024/09/Munich-Metabolomic-Symposium2.webp
END:VEVENT
END:VCALENDAR