BEGIN:VCALENDAR
VERSION:2.0
PRODID:-//biocrates life sciences gmbh - ECPv6.15.20//NONSGML v1.0//EN
CALSCALE:GREGORIAN
METHOD:PUBLISH
X-WR-CALNAME:biocrates life sciences gmbh
X-ORIGINAL-URL:https://biocrates.com
X-WR-CALDESC:Events for biocrates life sciences gmbh
REFRESH-INTERVAL;VALUE=DURATION:PT1H
X-Robots-Tag:noindex
X-PUBLISHED-TTL:PT1H
BEGIN:VTIMEZONE
TZID:Europe/Vienna
BEGIN:DAYLIGHT
TZOFFSETFROM:+0100
TZOFFSETTO:+0200
TZNAME:CEST
DTSTART:20230326T010000
END:DAYLIGHT
BEGIN:STANDARD
TZOFFSETFROM:+0200
TZOFFSETTO:+0100
TZNAME:CET
DTSTART:20231029T010000
END:STANDARD
BEGIN:DAYLIGHT
TZOFFSETFROM:+0100
TZOFFSETTO:+0200
TZNAME:CEST
DTSTART:20240331T010000
END:DAYLIGHT
BEGIN:STANDARD
TZOFFSETFROM:+0200
TZOFFSETTO:+0100
TZNAME:CET
DTSTART:20241027T010000
END:STANDARD
BEGIN:DAYLIGHT
TZOFFSETFROM:+0100
TZOFFSETTO:+0200
TZNAME:CEST
DTSTART:20250330T010000
END:DAYLIGHT
BEGIN:STANDARD
TZOFFSETFROM:+0200
TZOFFSETTO:+0100
TZNAME:CET
DTSTART:20251026T010000
END:STANDARD
END:VTIMEZONE
BEGIN:VEVENT
DTSTART;TZID=Europe/Vienna:20240826T000000
DTEND;TZID=Europe/Vienna:20240827T235959
DTSTAMP:20260423T200448
CREATED:20240612T094420Z
LAST-MODIFIED:20240612T094420Z
UID:270615-1724630400-1724803199@biocrates.com
SUMMARY:Animal Health Summit 2024
DESCRIPTION:Participation\nJoin biocrates at Animal Health Summit 2024 in Kansas City August 26-27\, 2024 and be a part of bringing innovation alive in animal health. \nDate | March 12-14\, 202\nLocation | Kansas City\nMeet | Marissa Jones\nMore information | https://kcanimalhealth.thinkkc.com/events/animal-health-summit
URL:https://biocrates.com/event/animal-health-summit-2024/
ATTACH;FMTTYPE=image/webp:https://biocrates.com/wp-content/uploads/2024/06/AnimalHealthSummit2024.webp
END:VEVENT
END:VCALENDAR