BEGIN:VCALENDAR
VERSION:2.0
PRODID:-//biocrates life sciences gmbh - ECPv6.15.20//NONSGML v1.0//EN
CALSCALE:GREGORIAN
METHOD:PUBLISH
X-WR-CALNAME:biocrates life sciences gmbh
X-ORIGINAL-URL:https://biocrates.com
X-WR-CALDESC:Events for biocrates life sciences gmbh
REFRESH-INTERVAL;VALUE=DURATION:PT1H
X-Robots-Tag:noindex
X-PUBLISHED-TTL:PT1H
BEGIN:VTIMEZONE
TZID:America/Detroit
BEGIN:DAYLIGHT
TZOFFSETFROM:-0500
TZOFFSETTO:-0400
TZNAME:EDT
DTSTART:20230312T070000
END:DAYLIGHT
BEGIN:STANDARD
TZOFFSETFROM:-0400
TZOFFSETTO:-0500
TZNAME:EST
DTSTART:20231105T060000
END:STANDARD
BEGIN:DAYLIGHT
TZOFFSETFROM:-0500
TZOFFSETTO:-0400
TZNAME:EDT
DTSTART:20240310T070000
END:DAYLIGHT
BEGIN:STANDARD
TZOFFSETFROM:-0400
TZOFFSETTO:-0500
TZNAME:EST
DTSTART:20241103T060000
END:STANDARD
BEGIN:DAYLIGHT
TZOFFSETFROM:-0500
TZOFFSETTO:-0400
TZNAME:EDT
DTSTART:20250309T070000
END:DAYLIGHT
BEGIN:STANDARD
TZOFFSETFROM:-0400
TZOFFSETTO:-0500
TZNAME:EST
DTSTART:20251102T060000
END:STANDARD
END:VTIMEZONE
BEGIN:VEVENT
DTSTART;TZID=America/Detroit:20240815T090000
DTEND;TZID=America/Detroit:20240815T170000
DTSTAMP:20260423T215538
CREATED:20240718T100908Z
LAST-MODIFIED:20240718T100908Z
UID:271296-1723712400-1723741200@biocrates.com
SUMMARY:Corewell Health Metabolomics Symposium
DESCRIPTION:Sponsorship\nDate | August 15\, 2024\nTime | 09:00 am – 05:00 pm EST\nLocation |The Terrace\, Corewell Health Place\, 648 Monroe Ave NW\, Room 4500\, Grand Rapids\, MI\, 49503M\nMeet | Marissa Jones\nProgram & Registration | https://biocrates.com/2024_corewell-health-symposium/
URL:https://biocrates.com/event/corewell-health-metabolomics-symposium-2/
LOCATION:The Terrace\, Corewell Health Place\, 648 Monroe Ave NW\, Room 4500\, Grand Rapids\, MI\, 49503\, United States
ATTACH;FMTTYPE=image/jpeg:https://biocrates.com/wp-content/uploads/2024/07/upcoming-events-600x250px.jpg
END:VEVENT
END:VCALENDAR