BEGIN:VCALENDAR
VERSION:2.0
PRODID:-//biocrates life sciences gmbh - ECPv6.15.20//NONSGML v1.0//EN
CALSCALE:GREGORIAN
METHOD:PUBLISH
X-WR-CALNAME:biocrates life sciences gmbh
X-ORIGINAL-URL:https://biocrates.com
X-WR-CALDESC:Events for biocrates life sciences gmbh
REFRESH-INTERVAL;VALUE=DURATION:PT1H
X-Robots-Tag:noindex
X-PUBLISHED-TTL:PT1H
BEGIN:VTIMEZONE
TZID:Europe/Vienna
BEGIN:DAYLIGHT
TZOFFSETFROM:+0100
TZOFFSETTO:+0200
TZNAME:CEST
DTSTART:20230326T010000
END:DAYLIGHT
BEGIN:STANDARD
TZOFFSETFROM:+0200
TZOFFSETTO:+0100
TZNAME:CET
DTSTART:20231029T010000
END:STANDARD
BEGIN:DAYLIGHT
TZOFFSETFROM:+0100
TZOFFSETTO:+0200
TZNAME:CEST
DTSTART:20240331T010000
END:DAYLIGHT
BEGIN:STANDARD
TZOFFSETFROM:+0200
TZOFFSETTO:+0100
TZNAME:CET
DTSTART:20241027T010000
END:STANDARD
BEGIN:DAYLIGHT
TZOFFSETFROM:+0100
TZOFFSETTO:+0200
TZNAME:CEST
DTSTART:20250330T010000
END:DAYLIGHT
BEGIN:STANDARD
TZOFFSETFROM:+0200
TZOFFSETTO:+0100
TZNAME:CET
DTSTART:20251026T010000
END:STANDARD
END:VTIMEZONE
BEGIN:VEVENT
DTSTART;TZID=Europe/Vienna:20240807T000000
DTEND;TZID=Europe/Vienna:20240807T235959
DTSTAMP:20260423T215423
CREATED:20240618T143816Z
LAST-MODIFIED:20240618T143816Z
UID:270644-1722988800-1723075199@biocrates.com
SUMMARY:Chicago Mass Spec Day
DESCRIPTION:Sponsorship\nMeet biocrates at Chicago Mass Spec Day 2024. \nDate | August 07\, 2024\nLocation | University of Illinois\, Chicago\, USA\nMeet | Marissa Jones\nMore information | https://chicagomassspecday.weebly.com/
URL:https://biocrates.com/event/chicago-mass-spec-day/
LOCATION:University of Illinois\, Chicago\, IL\, United States
ATTACH;FMTTYPE=image/webp:https://biocrates.com/wp-content/uploads/2024/06/ChicagoMassSpecDay1.webp
END:VEVENT
END:VCALENDAR