BEGIN:VCALENDAR
VERSION:2.0
PRODID:-//biocrates life sciences gmbh - ECPv6.15.20//NONSGML v1.0//EN
CALSCALE:GREGORIAN
METHOD:PUBLISH
X-WR-CALNAME:biocrates life sciences gmbh
X-ORIGINAL-URL:https://biocrates.com
X-WR-CALDESC:Events for biocrates life sciences gmbh
REFRESH-INTERVAL;VALUE=DURATION:PT1H
X-Robots-Tag:noindex
X-PUBLISHED-TTL:PT1H
BEGIN:VTIMEZONE
TZID:Europe/Vienna
BEGIN:DAYLIGHT
TZOFFSETFROM:+0100
TZOFFSETTO:+0200
TZNAME:CEST
DTSTART:20230326T010000
END:DAYLIGHT
BEGIN:STANDARD
TZOFFSETFROM:+0200
TZOFFSETTO:+0100
TZNAME:CET
DTSTART:20231029T010000
END:STANDARD
BEGIN:DAYLIGHT
TZOFFSETFROM:+0100
TZOFFSETTO:+0200
TZNAME:CEST
DTSTART:20240331T010000
END:DAYLIGHT
BEGIN:STANDARD
TZOFFSETFROM:+0200
TZOFFSETTO:+0100
TZNAME:CET
DTSTART:20241027T010000
END:STANDARD
BEGIN:DAYLIGHT
TZOFFSETFROM:+0100
TZOFFSETTO:+0200
TZNAME:CEST
DTSTART:20250330T010000
END:DAYLIGHT
BEGIN:STANDARD
TZOFFSETFROM:+0200
TZOFFSETTO:+0100
TZNAME:CET
DTSTART:20251026T010000
END:STANDARD
END:VTIMEZONE
BEGIN:VEVENT
DTSTART;TZID=Europe/Vienna:20240325T000000
DTEND;TZID=Europe/Vienna:20240326T235959
DTSTAMP:20260424T052836
CREATED:20240311T130812Z
LAST-MODIFIED:20240311T130812Z
UID:269312-1711324800-1711497599@biocrates.com
SUMMARY:Translational Microbiome Conference
DESCRIPTION:Participation\nThe 9th Translational Microbiome Conference will focus and build on the challenges and hurdles that companies working in the microbiome space will have to recognize and navigate in order to successfully commercialize their products. Additionally\, this meeting also showcases ground-breaking research being performed by leadings scientist from around the globe. \nDate | March 25-26\, 2024\nLocation | W Boston\, 100 Stuart Street\, Boston\, MA\nMeet |  Marissa Jones\nProgram | Microbiome Conference 2024 
URL:https://biocrates.com/event/translational-microbiome-conference/
LOCATION:W Boston\, 100 Stuart Street\, BOSTON\, MA\, United States
ATTACH;FMTTYPE=image/jpeg:https://biocrates.com/wp-content/uploads/2024/03/microbiome.jpg
END:VEVENT
END:VCALENDAR