BEGIN:VCALENDAR
VERSION:2.0
PRODID:-//biocrates life sciences gmbh - ECPv6.15.20//NONSGML v1.0//EN
CALSCALE:GREGORIAN
METHOD:PUBLISH
X-WR-CALNAME:biocrates life sciences gmbh
X-ORIGINAL-URL:https://biocrates.com
X-WR-CALDESC:Events for biocrates life sciences gmbh
REFRESH-INTERVAL;VALUE=DURATION:PT1H
X-Robots-Tag:noindex
X-PUBLISHED-TTL:PT1H
BEGIN:VTIMEZONE
TZID:Europe/Vienna
BEGIN:DAYLIGHT
TZOFFSETFROM:+0100
TZOFFSETTO:+0200
TZNAME:CEST
DTSTART:20230326T010000
END:DAYLIGHT
BEGIN:STANDARD
TZOFFSETFROM:+0200
TZOFFSETTO:+0100
TZNAME:CET
DTSTART:20231029T010000
END:STANDARD
BEGIN:DAYLIGHT
TZOFFSETFROM:+0100
TZOFFSETTO:+0200
TZNAME:CEST
DTSTART:20240331T010000
END:DAYLIGHT
BEGIN:STANDARD
TZOFFSETFROM:+0200
TZOFFSETTO:+0100
TZNAME:CET
DTSTART:20241027T010000
END:STANDARD
BEGIN:DAYLIGHT
TZOFFSETFROM:+0100
TZOFFSETTO:+0200
TZNAME:CEST
DTSTART:20250330T010000
END:DAYLIGHT
BEGIN:STANDARD
TZOFFSETFROM:+0200
TZOFFSETTO:+0100
TZNAME:CET
DTSTART:20251026T010000
END:STANDARD
END:VTIMEZONE
BEGIN:VEVENT
DTSTART;TZID=Europe/Vienna:20240323T000000
DTEND;TZID=Europe/Vienna:20240324T235959
DTSTAMP:20260424T052836
CREATED:20240110T112359Z
LAST-MODIFIED:20240110T112359Z
UID:268576-1711152000-1711324799@biocrates.com
SUMMARY:Gut Microbiota for Health
DESCRIPTION:Participation\nThe American Gastroenterological Association (AGA) and the European Society of Neurogastroenterology and Motility (ESNM) are organizing the twelfth edition of the Gut Microbiota for Health (GMFH) World Summit in Washington\, D.C. (USA). It will focus on manipulations of human gut microbiome in health and disease. \nDate | March 23-24\, 2024\nLocation | Crystal Gateway Marriott\, 1700 Richmond Highway\, Arlington\, Virginia | Washington DC\nMeet | Marissa Jones\nProgram | https://www.gutmicrobiotaforhealth.com/washington-2024/program/
URL:https://biocrates.com/event/gut-microbiota-for-health/
LOCATION:Crystal Gateway Marriott\, 1700 Richmond Highway\, Arlinton\, VA\, United States
ATTACH;FMTTYPE=image/jpeg:https://biocrates.com/wp-content/uploads/2024/01/GutMicrobiota.jpg
END:VEVENT
END:VCALENDAR