BEGIN:VCALENDAR
VERSION:2.0
PRODID:-//biocrates life sciences gmbh - ECPv6.15.20//NONSGML v1.0//EN
CALSCALE:GREGORIAN
METHOD:PUBLISH
X-WR-CALNAME:biocrates life sciences gmbh
X-ORIGINAL-URL:https://biocrates.com
X-WR-CALDESC:Events for biocrates life sciences gmbh
REFRESH-INTERVAL;VALUE=DURATION:PT1H
X-Robots-Tag:noindex
X-PUBLISHED-TTL:PT1H
BEGIN:VTIMEZONE
TZID:Europe/Vienna
BEGIN:DAYLIGHT
TZOFFSETFROM:+0100
TZOFFSETTO:+0200
TZNAME:CEST
DTSTART:20220327T010000
END:DAYLIGHT
BEGIN:STANDARD
TZOFFSETFROM:+0200
TZOFFSETTO:+0100
TZNAME:CET
DTSTART:20221030T010000
END:STANDARD
BEGIN:DAYLIGHT
TZOFFSETFROM:+0100
TZOFFSETTO:+0200
TZNAME:CEST
DTSTART:20230326T010000
END:DAYLIGHT
BEGIN:STANDARD
TZOFFSETFROM:+0200
TZOFFSETTO:+0100
TZNAME:CET
DTSTART:20231029T010000
END:STANDARD
BEGIN:DAYLIGHT
TZOFFSETFROM:+0100
TZOFFSETTO:+0200
TZNAME:CEST
DTSTART:20240331T010000
END:DAYLIGHT
BEGIN:STANDARD
TZOFFSETFROM:+0200
TZOFFSETTO:+0100
TZNAME:CET
DTSTART:20241027T010000
END:STANDARD
END:VTIMEZONE
BEGIN:VEVENT
DTSTART;TZID=Europe/Vienna:20231114T000000
DTEND;TZID=Europe/Vienna:20231116T235959
DTSTAMP:20260424T114202
CREATED:20230926T133451Z
LAST-MODIFIED:20230926T133451Z
UID:267559-1699920000-1700179199@biocrates.com
SUMMARY:Microbiome Connect
DESCRIPTION:Conference participation\nMicrobiome Connect provides the chance to address shared challenges around innovative therapeutic development\, build meaningful partnerships\, and sharpen their R&D and commercial strategies. Bringing together the whole microbiome therapeutics ecosystem – from investors and large pharmaceutical companies through to the most pioneering biotechs\, academic institutions and solution providers – it delivers the business-critical information you need to make strategic decisions for your organisation through in-depth case studies and expanded networking opportunities. \nDate | November 14-16\,2023\nLocation: Hyatt Regency Hotel\, Boston\, USA\nMeet | Fadi Abdi\nProgram 
URL:https://biocrates.com/event/microbiome-connect/
LOCATION:Hyatt Regency Hotel\, Avenue de Lafayette\, Boston\, DE\, 02111\, United States
ATTACH;FMTTYPE=image/webp:https://biocrates.com/wp-content/uploads/2023/09/MicrobiomeConnect_600x250px.webp
END:VEVENT
END:VCALENDAR