BEGIN:VCALENDAR
VERSION:2.0
PRODID:-//biocrates life sciences gmbh - ECPv6.15.20//NONSGML v1.0//EN
CALSCALE:GREGORIAN
METHOD:PUBLISH
X-ORIGINAL-URL:https://biocrates.com
X-WR-CALDESC:Events for biocrates life sciences gmbh
REFRESH-INTERVAL;VALUE=DURATION:PT1H
X-Robots-Tag:noindex
X-PUBLISHED-TTL:PT1H
BEGIN:VTIMEZONE
TZID:Europe/Vienna
BEGIN:DAYLIGHT
TZOFFSETFROM:+0100
TZOFFSETTO:+0200
TZNAME:CEST
DTSTART:20220327T010000
END:DAYLIGHT
BEGIN:STANDARD
TZOFFSETFROM:+0200
TZOFFSETTO:+0100
TZNAME:CET
DTSTART:20221030T010000
END:STANDARD
BEGIN:DAYLIGHT
TZOFFSETFROM:+0100
TZOFFSETTO:+0200
TZNAME:CEST
DTSTART:20230326T010000
END:DAYLIGHT
BEGIN:STANDARD
TZOFFSETFROM:+0200
TZOFFSETTO:+0100
TZNAME:CET
DTSTART:20231029T010000
END:STANDARD
BEGIN:DAYLIGHT
TZOFFSETFROM:+0100
TZOFFSETTO:+0200
TZNAME:CEST
DTSTART:20240331T010000
END:DAYLIGHT
BEGIN:STANDARD
TZOFFSETFROM:+0200
TZOFFSETTO:+0100
TZNAME:CET
DTSTART:20241027T010000
END:STANDARD
END:VTIMEZONE
BEGIN:VEVENT
DTSTART;TZID=Europe/Vienna:20231023T000000
DTEND;TZID=Europe/Vienna:20231027T235959
DTSTAMP:20260424T132342
CREATED:20230619T093426Z
LAST-MODIFIED:20230619T093426Z
UID:265976-1698019200-1698451199@biocrates.com
SUMMARY:5th Annual MANA Conference
DESCRIPTION:Conference participation\nMetabolomics Association of North America (MANA) is an international affiliate of the Metabolomics Society focused on serving the needs of metabolomics scientists in the United States\, Canada\, and Mexico. Key aspects of their mission include providing opportunities for the North American researchers in metabolomics sciences and in related fields\, as well as providing opportunities for workshops and presentation of research achievements. They are also dedicated to providing grants and career development resources for the early-career members of their association. \nDate | October 23-27\,2023\nLocation | University of Missoury\, Columbia\, MO\nMeet | Fadi Abdi\, Katherine Black\nProgram | Scientific program
URL:https://biocrates.com/event/5th-annual-mana-conference/
LOCATION:University of Missouri\, Columbia\, MO\, MT\, United States
ATTACH;FMTTYPE=image/webp:https://biocrates.com/wp-content/uploads/2023/06/MANA1.webp
END:VEVENT
END:VCALENDAR