BEGIN:VCALENDAR
VERSION:2.0
PRODID:-//biocrates life sciences gmbh - ECPv6.15.20//NONSGML v1.0//EN
CALSCALE:GREGORIAN
METHOD:PUBLISH
X-ORIGINAL-URL:https://biocrates.com
X-WR-CALDESC:Events for biocrates life sciences gmbh
REFRESH-INTERVAL;VALUE=DURATION:PT1H
X-Robots-Tag:noindex
X-PUBLISHED-TTL:PT1H
BEGIN:VTIMEZONE
TZID:Europe/Vienna
BEGIN:DAYLIGHT
TZOFFSETFROM:+0100
TZOFFSETTO:+0200
TZNAME:CEST
DTSTART:20220327T010000
END:DAYLIGHT
BEGIN:STANDARD
TZOFFSETFROM:+0200
TZOFFSETTO:+0100
TZNAME:CET
DTSTART:20221030T010000
END:STANDARD
BEGIN:DAYLIGHT
TZOFFSETFROM:+0100
TZOFFSETTO:+0200
TZNAME:CEST
DTSTART:20230326T010000
END:DAYLIGHT
BEGIN:STANDARD
TZOFFSETFROM:+0200
TZOFFSETTO:+0100
TZNAME:CET
DTSTART:20231029T010000
END:STANDARD
BEGIN:DAYLIGHT
TZOFFSETFROM:+0100
TZOFFSETTO:+0200
TZNAME:CEST
DTSTART:20240331T010000
END:DAYLIGHT
BEGIN:STANDARD
TZOFFSETFROM:+0200
TZOFFSETTO:+0100
TZNAME:CET
DTSTART:20241027T010000
END:STANDARD
END:VTIMEZONE
BEGIN:VEVENT
DTSTART;TZID=Europe/Vienna:20231012T000000
DTEND;TZID=Europe/Vienna:20231013T235959
DTSTAMP:20260424T132316
CREATED:20230620T094418Z
LAST-MODIFIED:20230620T094418Z
UID:265988-1697068800-1697241599@biocrates.com
SUMMARY:Munich Metabolomics Meeting
DESCRIPTION:Sponsorship\nThe Munich Metabolomics Meeting is offering two days of news and research around metabolomics and lipidomics\, including a workshop for PhD students and PostDocs. \nDate | October 12-13\, 2023\nLocation | Auditorium\, Helmholtz Munich\nMeet | Stefan Ledinger\, Matthias Scheffler\nProgram | Scientific program
URL:https://biocrates.com/event/munich-metabolomics-meeting-2023/
LOCATION:Auditorium\, Helmoltz Munich\, Munich\, Germany
ATTACH;FMTTYPE=image/webp:https://biocrates.com/wp-content/uploads/2023/06/MunichMetabolomicsMeeting.webp
END:VEVENT
END:VCALENDAR