BEGIN:VCALENDAR
VERSION:2.0
PRODID:-//biocrates life sciences gmbh - ECPv6.15.20//NONSGML v1.0//EN
CALSCALE:GREGORIAN
METHOD:PUBLISH
X-WR-CALNAME:biocrates life sciences gmbh
X-ORIGINAL-URL:https://biocrates.com
X-WR-CALDESC:Events for biocrates life sciences gmbh
REFRESH-INTERVAL;VALUE=DURATION:PT1H
X-Robots-Tag:noindex
X-PUBLISHED-TTL:PT1H
BEGIN:VTIMEZONE
TZID:Europe/Vienna
BEGIN:DAYLIGHT
TZOFFSETFROM:+0100
TZOFFSETTO:+0200
TZNAME:CEST
DTSTART:20220327T010000
END:DAYLIGHT
BEGIN:STANDARD
TZOFFSETFROM:+0200
TZOFFSETTO:+0100
TZNAME:CET
DTSTART:20221030T010000
END:STANDARD
BEGIN:DAYLIGHT
TZOFFSETFROM:+0100
TZOFFSETTO:+0200
TZNAME:CEST
DTSTART:20230326T010000
END:DAYLIGHT
BEGIN:STANDARD
TZOFFSETFROM:+0200
TZOFFSETTO:+0100
TZNAME:CET
DTSTART:20231029T010000
END:STANDARD
BEGIN:DAYLIGHT
TZOFFSETFROM:+0100
TZOFFSETTO:+0200
TZNAME:CEST
DTSTART:20240331T010000
END:DAYLIGHT
BEGIN:STANDARD
TZOFFSETFROM:+0200
TZOFFSETTO:+0100
TZNAME:CET
DTSTART:20241027T010000
END:STANDARD
END:VTIMEZONE
BEGIN:VEVENT
DTSTART;TZID=Europe/Vienna:20230926T000000
DTEND;TZID=Europe/Vienna:20230926T235959
DTSTAMP:20260424T132006
CREATED:20230810T071634Z
LAST-MODIFIED:20230810T071634Z
UID:266421-1695686400-1695772799@biocrates.com
SUMMARY:Heidelberg Metabolomics Symposium
DESCRIPTION:Metabolism in Cancer & Inflammation Research\nSponsored by biocrates\nThe Heidelberg Metabolomics Symposium will bring together international\, national and local experts in the field of metabolomics\, cancer and immunology research to discuss the current state of the art in the metabolomics field and to discuss future outlooks.\n \nDate | September 26\, 2023\nTime | 09:00 am-05:00 pm CET\nLocation: Conference Center of DKFZ Heidelberg\, Germany\nProgram | event page\nRegistration \n 
URL:https://biocrates.com/event/heidelberg-metabolomics-symposium/
LOCATION:DKFZ Heidelberg\, Im Neuenheimer Feld 280\, Heidelberg\, 69120\, Germany
ATTACH;FMTTYPE=image/webp:https://biocrates.com/wp-content/uploads/2023/08/Mx-Heidelberg2_600x250px.webp
END:VEVENT
END:VCALENDAR