BEGIN:VCALENDAR
VERSION:2.0
PRODID:-//biocrates life sciences gmbh - ECPv6.15.20//NONSGML v1.0//EN
CALSCALE:GREGORIAN
METHOD:PUBLISH
X-ORIGINAL-URL:https://biocrates.com
X-WR-CALDESC:Events for biocrates life sciences gmbh
REFRESH-INTERVAL;VALUE=DURATION:PT1H
X-Robots-Tag:noindex
X-PUBLISHED-TTL:PT1H
BEGIN:VTIMEZONE
TZID:Europe/Vienna
BEGIN:DAYLIGHT
TZOFFSETFROM:+0100
TZOFFSETTO:+0200
TZNAME:CEST
DTSTART:20220327T010000
END:DAYLIGHT
BEGIN:STANDARD
TZOFFSETFROM:+0200
TZOFFSETTO:+0100
TZNAME:CET
DTSTART:20221030T010000
END:STANDARD
BEGIN:DAYLIGHT
TZOFFSETFROM:+0100
TZOFFSETTO:+0200
TZNAME:CEST
DTSTART:20230326T010000
END:DAYLIGHT
BEGIN:STANDARD
TZOFFSETFROM:+0200
TZOFFSETTO:+0100
TZNAME:CET
DTSTART:20231029T010000
END:STANDARD
BEGIN:DAYLIGHT
TZOFFSETFROM:+0100
TZOFFSETTO:+0200
TZNAME:CEST
DTSTART:20240331T010000
END:DAYLIGHT
BEGIN:STANDARD
TZOFFSETFROM:+0200
TZOFFSETTO:+0100
TZNAME:CET
DTSTART:20241027T010000
END:STANDARD
END:VTIMEZONE
BEGIN:VEVENT
DTSTART;TZID=Europe/Vienna:20230417T000000
DTEND;TZID=Europe/Vienna:20230417T235959
DTSTAMP:20260424T234037
CREATED:20230311T132829Z
LAST-MODIFIED:20230311T132829Z
UID:264030-1681689600-1681775999@biocrates.com
SUMMARY:X-omics Festival
DESCRIPTION:Conference participation\nThe fifth edition of the X-omics festival “The future of multi-omics research is now!” will take place on Monday April 17th 2023. Showcasing research at different biological levels\, with a specific focus on multi-omics data integration or spatial omics. The event aims to bring together the multi-omics community. \nDate |  April 17\, 2023\nMeet | Bijon Chatterji\nProgram | Registration link
URL:https://biocrates.com/event/x-omics-festival-2/
LOCATION:Nijmegen\, Netherlands
ATTACH;FMTTYPE=image/webp:https://biocrates.com/wp-content/uploads/2023/03/X-omics-1-e1681203874157.webp
END:VEVENT
END:VCALENDAR